BEGIN:VCALENDAR
VERSION:2.0
PRODID:-//wp-events-plugin.com//7.2.3.1//EN
TZID:Europe/Warsaw
X-WR-TIMEZONE:Europe/Warsaw
BEGIN:VEVENT
UID:46177@night4u.pl
DTSTART;TZID=Europe/Warsaw:20200207T210000
DTEND;TZID=Europe/Warsaw:20200208T030000
DTSTAMP:20200208T004732Z
URL:https://night4u.pl/wydarzenia/friday-motion-46/
SUMMARY:Friday Motion
DESCRIPTION:FRIDAY MOTION \n\nNie 5\, nie 50\, a wszystkie odcienie disco w
  jedną noc\, w jednym miejscu\, w Kuli! :)\n\nWeekend rozpoczynamy bujnie
  i tanecznie\, serwujemy hity\, do których choreografia ułoży się sama
 ! Najlepsza droga żeby powiedzieć DZIEŃ DOBRY WEEKENDOWI! Dodatkowo NOC
 NE GRANIE od 24 z grą w kręgle w super cenie!  Do zobaczenia! \n\nPIĄTE
 K\nGODZINA 21:00\nWSTĘP FREE\nObowiązuje selekcja (wstęp od 21 lat) \n\
 nRezerwacje loży i torów: 502 810 487\nRezerwacje online: http://tinyurl
 .com/Rezerwacje-Kula-Bowling-Club\nPokaż mniej
ATTACH;FMTTYPE=image/jpeg:https://night4u.pl/wp-content/uploads/2020/02/15
 1405_image_83602926_2528437597283135_828967935539150848_n.jpg
CATEGORIES:podkarpackie
LOCATION:Kula  Bowling &amp\; Club\, Krakowska 20\, Rzeszów\, 35-111\, Pol
 and
GEO:50.048906;21.975939
X-APPLE-STRUCTURED-LOCATION;VALUE=URI;X-ADDRESS=Krakowska 20\, Rzeszów\, 3
 5-111\, Poland;X-APPLE-RADIUS=100;X-TITLE=Kula  Bowling & Club:geo:50.0489
 06,21.975939
END:VEVENT
BEGIN:VTIMEZONE
TZID:Europe/Warsaw
X-LIC-LOCATION:Europe/Warsaw
BEGIN:STANDARD
DTSTART:20191027T020000
TZOFFSETFROM:+0200
TZOFFSETTO:+0100
TZNAME:CET
END:STANDARD
END:VTIMEZONE
END:VCALENDAR