BEGIN:VCALENDAR
VERSION:2.0
PRODID:-//wp-events-plugin.com//7.2.3.1//EN
TZID:Europe/Warsaw
X-WR-TIMEZONE:Europe/Warsaw
BEGIN:VEVENT
UID:50013@night4u.pl
DTSTART;TZID=Europe/Warsaw:20200327T230000
DTEND;TZID=Europe/Warsaw:20200328T040000
DTSTAMP:20200323T073014Z
URL:https://night4u.pl/wydarzenia/friday-swag-the-view-warsaw/
SUMMARY:Friday Swag / The View Warsaw
DESCRIPTION:Friday Swag\, to noce dedykowane DJom grającym w formule open 
 format. Szeroki wachlarz muzyczny i wiele niespodzianek dźwiękowych to d
 ewiza tych imprez.\n\nTym razem nasz parkiet rozpali: DJ MIXTEE\n\nGO HARD
  OR GO HOME.\n\n_____________________\n\nPIĄTEK 28.03.2020\n_____________
 ________\n\nZagrają: \nDJ MIXTEE\n_____________________\n\n*start: 23:00 
 / obowiązuje selekcja\n*rezerwacje: reservation@theview.pl / +48 663 971 
 942\n*wstęp: \n- standard 30 PLN\n- lista facebook: FREE do 24:00 (klikni
 j "wezmę udział")\n- między 3:00 a 4:00 wstęp FREE\n- wejście na impr
 ezę możliwe do godziny 4:00\n______________________\n\nTHE VIEW - LIKE N
 O OTHER.
ATTACH;FMTTYPE=image/jpeg:https://night4u.pl/wp-content/uploads/2020/03/17
 4555_image_89143082_2733246213390102_5602937669748260864_o.jpg
CATEGORIES:mazowieckie
LOCATION:The View Warsaw\, Twarda 18\, Warsaw\, 00-105\, Poland
GEO:52.23443;20.99936
X-APPLE-STRUCTURED-LOCATION;VALUE=URI;X-ADDRESS=Twarda 18\, Warsaw\, 00-105
 \, Poland;X-APPLE-RADIUS=100;X-TITLE=The View Warsaw:geo:52.23443,20.99936
END:VEVENT
BEGIN:VTIMEZONE
TZID:Europe/Warsaw
X-LIC-LOCATION:Europe/Warsaw
BEGIN:STANDARD
DTSTART:20191027T020000
TZOFFSETFROM:+0200
TZOFFSETTO:+0100
TZNAME:CET
END:STANDARD
END:VTIMEZONE
END:VCALENDAR