BEGIN:VCALENDAR
VERSION:2.0
PRODID:-//wp-events-plugin.com//7.2.3.1//EN
TZID:Europe/Warsaw
X-WR-TIMEZONE:Europe/Warsaw
BEGIN:VEVENT
UID:34620@night4u.pl
DTSTART;TZID=Europe/Warsaw:20191102T220000
DTEND;TZID=Europe/Warsaw:20191103T050000
DTSTAMP:20191102T230149Z
URL:https://night4u.pl/wydarzenia/from-grey-with-love-slovik/
SUMMARY:From GREY WITH Love/Slovik
DESCRIPTION:#Slovik - wielbiciel seksownych i ciepłych brzmień muzyki hou
 se\, który od ponad dekady przekłada swoją pasję na pozytywne emocje l
 udzi bawiących się wraz z nim . Rezydent takich klubów jak: wrocławski
  Grey\, wcześniej Cherry\, Lemoniada. Miał przyjemność występować u 
 boku takich gwiazd jak Dj Tonka\, Sandy Riviera\, Dirty Freek\, Ben Delay\
 , Copyright (Defected)\, Mr. X / Africa Islam\, Stu Ojelay (Hed Kandi UK)\
 , DJ Haze\, Karol VII &amp\; Mb Valence (Loco Rec)\, jak i polskich dj'i -
  Novika &amp\; Lex\, Wet Fingers\, Loui &amp\; Scibi\, Groove Coctail\, Ne
 evald\, Jakub Rene Kosik\, Dj D'Vision i wielu innych...\n\nTej nocy nie m
 oże nikogo zabraknąć!!!\n✔Niepowtarzalna Atmosfera\n✔Sympatyczna Ob
 sługa\n✔Najlepsza Muzyka\n✔Fotorelacja\n\n✔Happy Hours!\n22:00-23:0
 0 -50% dla #WSZYSTKICH na barze!\nWSTĘP FREE DO 23!\n\n☆☆☆MUZA☆
 ☆☆\n✔Slovik\n\n\n✔Sobota 2.11\n✔ Start 22:00 \n✔ Door selectio
 n \n--------------------------------------------------------------\nRezerw
 acja Loży:516 134 304
ATTACH;FMTTYPE=image/jpeg:https://night4u.pl/wp-content/uploads/2019/11/89
 964_image_75369235_2800609393282660_9094540064699973632_o.jpg
CATEGORIES:opolskie
LOCATION:Aqarium Music Club - Nysa\, Piastowska 19\, Nysa\, 48-300\, Poland
GEO:50.475975;17.331974
X-APPLE-STRUCTURED-LOCATION;VALUE=URI;X-ADDRESS=Piastowska 19\, Nysa\, 48-3
 00\, Poland;X-APPLE-RADIUS=100;X-TITLE=Aqarium Music Club - Nysa:geo:50.47
 5975,17.331974
END:VEVENT
BEGIN:VTIMEZONE
TZID:Europe/Warsaw
X-LIC-LOCATION:Europe/Warsaw
BEGIN:STANDARD
DTSTART:20191027T020000
TZOFFSETFROM:+0200
TZOFFSETTO:+0100
TZNAME:CET
END:STANDARD
END:VTIMEZONE
END:VCALENDAR