BEGIN:VCALENDAR
VERSION:2.0
PRODID:-//wp-events-plugin.com//7.2.3.1//EN
TZID:Europe/Warsaw
X-WR-TIMEZONE:Europe/Warsaw
BEGIN:VEVENT
UID:41961@night4u.pl
DTSTART;TZID=Europe/Warsaw:20200111T220000
DTEND;TZID=Europe/Warsaw:20200112T060000
DTSTAMP:20200331T192953Z
URL:https://night4u.pl/wydarzenia/from-warsaw-with-love-lista-free-do-2300
 -21/
SUMMARY:From Warsaw with Love // Lista Free Do 23:00
DESCRIPTION:LISTA FB WCHODZI FREE DO 23:00! \nWYSTARCZY KLIKNĄĆ "WEZMĘ U
 DZIAŁ"\nLISTĘ ZAMYKAMY O 19:00!\n\nIMPORT ZE STOLICY Dj Hiena ♥\n\n===
 ========================================\nO parkiety zadbają ze staranno
 ścią :\nHEAVEN / DUŻA : Dj Hiena\nPURGATORY / LATINO : Mariusz Szumczyk
  aka. Mauro\nHELL / PALARNIA : M.W. Project\nABYS / HOUSE : Erick Silent\n
 ==============================================\n\nStart: 22:00\nWstęp: 20
  zł\n\nLISTA FB WCHODZI FREE DO 23:00! \nWYSTARCZY KLIKNĄĆ "WEZMĘ UDZI
 AŁ"\nLISTĘ ZAMYKAMY O 19:00!
ATTACH;FMTTYPE=image/jpeg:https://night4u.pl/wp-content/uploads/2020/01/13
 2355_image_81551094_2511030522517932_4846119262022008832_o.jpg
CATEGORIES:dolnośląskie
LOCATION:HAH Wrocław\, ul. Oławska 11\, Wroclaw\, 50-105\, Poland
GEO:51.10848;17.035085
X-APPLE-STRUCTURED-LOCATION;VALUE=URI;X-ADDRESS=ul. Oławska 11\, Wroclaw\,
  50-105\, Poland;X-APPLE-RADIUS=100;X-TITLE=HAH Wrocław:geo:51.10848,17.0
 35085
END:VEVENT
BEGIN:VTIMEZONE
TZID:Europe/Warsaw
X-LIC-LOCATION:Europe/Warsaw
BEGIN:STANDARD
DTSTART:20191027T020000
TZOFFSETFROM:+0200
TZOFFSETTO:+0100
TZNAME:CET
END:STANDARD
END:VTIMEZONE
END:VCALENDAR