BEGIN:VCALENDAR
VERSION:2.0
PRODID:-//wp-events-plugin.com//7.2.3.1//EN
TZID:Europe/Warsaw
X-WR-TIMEZONE:Europe/Warsaw
BEGIN:VEVENT
UID:31565@night4u.pl
DTSTART;TZID=Europe/Warsaw:20191017T210000
DTEND;TZID=Europe/Warsaw:20191018T050000
DTSTAMP:20191017T020017Z
URL:https://night4u.pl/wydarzenia/fuksowka-amuz-x-asp-i-throwback-thursday
 -90s-00s/
SUMMARY:Fuksówka AMUZ x ASP I Throwback Thursday | 90s & 00s
DESCRIPTION:Samorząd Studencki Akademii Muzycznej oraz Samorząd Studencki
  Akademii Sztuk Pięknych zapraszają na fuksówkę pierwszoroczniaków or
 az starszych roczników\n\nPopularny w serwisach społecznościowych haszt
 ag #TBT oznacza czwartkowe powroty do przeszłości. Nie inaczej będzie n
 a naszej imprezie gdzie cofniemy się muzycznie do lat 90s i 00s \n\nSzyku
 jcie kolorowe ortalionowe kurtki bo tego dnia najlepsze stroje w stylu lat
  90s i 00s będą nagradzane darmowymi shotami na barze 🤘\n\nInfo:\n
 📍 Prywatka (Andrzeja Struga 8/10)\n🕘 START 21:00 🕘\nWstęp (18+):
 \n▪️*Z zaproszeniem rozdawanym przez samorządy ww. uczelni wstęp 10 
 PLN w tym drink w cenie\n▪️ Wejście dla pozostałych osób 10 PLN \n\
 nSTAŁA PROMOCJA NA KOKTAJLE\n🥥 Piña Colada 12 PLN 🥥\n🌴 Cuba Lib
 re 12 PLN 🌴\n\nInfo & Rezerwacje:\n☎️ 666 020 100\nhttps://prywatka
 klub.pl/rezerwacje\n\n/ Radio ESKA /
ATTACH;FMTTYPE=image/jpeg:https://night4u.pl/wp-content/uploads/2019/10/73
 920_image_71593595_513765259406631_3118526962797117440_o.jpg
CATEGORIES:łódzkie
LOCATION:Prywatka\, Andrzeja Struga 8/10\, Łódź\, 90-426\, Poland
GEO:51.765118;19.455113
X-APPLE-STRUCTURED-LOCATION;VALUE=URI;X-ADDRESS=Andrzeja Struga 8/10\, Łó
 dź\, 90-426\, Poland;X-APPLE-RADIUS=100;X-TITLE=Prywatka:geo:51.765118,19
 .455113
END:VEVENT
BEGIN:VTIMEZONE
TZID:Europe/Warsaw
X-LIC-LOCATION:Europe/Warsaw
BEGIN:DAYLIGHT
DTSTART:20190331T030000
TZOFFSETFROM:+0100
TZOFFSETTO:+0200
TZNAME:CEST
END:DAYLIGHT
END:VTIMEZONE
END:VCALENDAR