BEGIN:VCALENDAR
VERSION:2.0
PRODID:-//wp-events-plugin.com//7.2.3.1//EN
TZID:Europe/Warsaw
X-WR-TIMEZONE:Europe/Warsaw
BEGIN:VEVENT
UID:28446@night4u.pl
DTSTART;TZID=Europe/Warsaw:20191021T203000
DTEND;TZID=Europe/Warsaw:20191021T233000
DTSTAMP:20191021T064054Z
URL:https://night4u.pl/wydarzenia/funk-me-jazz-monday-feat-przemyslaw-knop
 ik-15/
SUMMARY:Funk me. Jazz Monday!
DESCRIPTION:Zapraszamy do wspólnego jammowania w klimatach jazz/funk/soul.
  \n\nFunk me. Jazz Monday! rozpoczyna sezon jesienno-zimowy! Za nami już 
 kilkadziesiąt spotkań i wcale nie zwalniamy tempa! A wręcz odwrotnie 
 – stale poszerzająca się grupa muzyków\, wokalistów i tancerzy\, kt
 órzy nam towarzyszą co tydzień cieszy nie tylko oko ale przede wszystki
 m ucho! Dzięki Wam wszystkim\, że tworzycie z nami te wieczory!\n\nRozeg
 ra ekipa z projektu Moonrivers\nDominika Naborowska – wokal\nPiotr Rola-
 Podczaski – klawisze\nJakub "Sista" Gawrych – bas\nDarek Kłosowski 
 – perkusja\n\nBilet: 10 zł (kufel piwa Tyskie / kawa/herbata gratis!)\n
 Muzycy – 5 zł (małe piwo gratis!)\nStart: 20:30 (otwieramy piwnicę o 
 20:30)\n\nOrganizatorzy:\nKlub Harenda\nLittle Jazz Choir\nMoonrivers\n\nG
 ramy m.in.:\nAll of Me\nLove me or leave me\nCry me a river\nBody and soul
 \nGirl form Ipanema\nAutumn leaves\nFever\nFly me to the moon\nMisty\nSumm
 ertime\nCheek to cheek\nDream a little dream of me\n\nHallelujahI just lov
 e him so\nHit the road jack\nI will survive\nCareless Whisper\nIsn't she l
 ovely\nSuperstiton\nThere will never be another you\nWhat a wonderful Word
 \nSon of a preacher man\nRespect\nI say a little prayer\nWould i lie to yo
 u\nSomething got me started\nSmooth Operator\nUnchain my heart\nI'm so exc
 ited\nBack to black\nValerie\nMoves like Jagger\nTreasure\nThis Love\nI wi
 sh\nSunny\nI feel good\nThis is a man's world\nJust the two of us\nSutra\n
 Happy\nStayin' Alive\nYou are the sunshine of my life\nCant take my ayes o
 ff of you\nCelebration\nSeptember\n\nInstrumentalne:\nBlue bossa\nBillie
 ’s bounce\nCantaloop Island\nChameleon\nChicken\nCissy Strut\nCold duck 
 time\nComing home baby\nEquinox\nMercy Mercy\nThe pink panther\nRed Baron\
 nStrasburg st.denis\nTune 88\nWatermelon man\nWork Song
ATTACH;FMTTYPE=image/jpeg:https://night4u.pl/wp-content/uploads/2019/10/65
 859_image_73395465_834173860335305_8122860897174552576_o.jpg
CATEGORIES:mazowieckie
LOCATION:Klub Harenda\, Krakowskie Przedmieście 4\, Srodmiescie\, 00-325\,
  Poland
GEO:52.238783;21.018876
X-APPLE-STRUCTURED-LOCATION;VALUE=URI;X-ADDRESS=Krakowskie Przedmieście 4\
 , Srodmiescie\, 00-325\, Poland;X-APPLE-RADIUS=100;X-TITLE=Klub Harenda:ge
 o:52.238783,21.018876
END:VEVENT
BEGIN:VTIMEZONE
TZID:Europe/Warsaw
X-LIC-LOCATION:Europe/Warsaw
BEGIN:DAYLIGHT
DTSTART:20190331T030000
TZOFFSETFROM:+0100
TZOFFSETTO:+0200
TZNAME:CEST
END:DAYLIGHT
END:VTIMEZONE
END:VCALENDAR