BEGIN:VCALENDAR
VERSION:2.0
PRODID:-//wp-events-plugin.com//7.2.3.1//EN
TZID:Europe/Warsaw
X-WR-TIMEZONE:Europe/Warsaw
BEGIN:VEVENT
UID:45494@night4u.pl
DTSTART;TZID=Europe/Warsaw:20200225T210000
DTEND;TZID=Europe/Warsaw:20200226T020000
DTSTAMP:20200225T190253Z
URL:https://night4u.pl/wydarzenia/funksoul-party-jam-session-2/
SUMMARY:Funk&amp\;Soul Party | jam session
DESCRIPTION:Zapraszamy na jam session\, które odbywa się w każdy wtorek 
 w klubie muzycznym BARdzo Bardzo (ul. Nowogrodzka 11\, Warszawa).\n\nKażd
 y jam rozgrywają zaproszeni przez nas muzycy. Możecie dołączyć do nic
 h zawsze po pierwszym secie. Wystarczy instrument\, fantazja i otwartość
  na muzykę :)\n\n• Michał Łuka - sax\n• Adam Bieranowski - keys\n
 • Kacper Stolarczyk - gitara\n• Jan Wierzbicki - bas\n• Kamil Kukla 
 - perkusja\n\nBARdzo Bardzo otwarte jest od godziny 19:00 – wpadnijcie n
 a drinka (również) przed rozpoczęciem jam session :)\nBilet wstępu na 
 jam session: 20 zł \n\n➖\n\nW każdy wtorek\, podczas Funk&amp\;Soul Pa
 rty\, w wyjątkowej przestrzeni klubu BARdzo bardzo (Nowogrodzka 11) spotk
 amy się z muzykami\, tancerzami\, zawsze liczną i fantastyczną publiczn
 ością. Ideę naszych spotkań oparliśmy o kultowe wzorce wspólnego muz
 ykowania odbywające się w Polsce i na całym świecie. Muzyka powstaje n
 a scenie bez żadnych ograniczeń i każdy może się przyczynić do kszta
 łtowania wieczoru. Każdą imprezę będzie rozpoczynał nowy line up eki
 py rozgrywającej\, która prowadzić Was będzie przez jamowe wieczory. \
 n\nMuzyka to wolność\, chcemy improwizować razem z Wami na scenie\, chc
 emy tańczyć i bawić się do spontanicznie tworzonych dźwięków. \n\nW
 eźcie instrumenty\, przyjdźcie potańczyć\, pograć\, pośpiewać (wszy
 stkie kombinacje są dozwolone) i bawcie się razem z nami. Stwórzmy raze
 m wyjątkowy klimat i zgraną ekipę.
ATTACH;FMTTYPE=image/jpeg:https://night4u.pl/wp-content/uploads/2020/01/14
 7659_image_83429078_1234900060232684_6539868631998660608_o.jpg
CATEGORIES:mazowieckie
LOCATION:Klub Hydrozagadka\, 11 listopada 22\, 03-436 Warszawa\, Poland\, P
 raga\, 03-436\, Poland
GEO:52.259283;21.036925
X-APPLE-STRUCTURED-LOCATION;VALUE=URI;X-ADDRESS=11 listopada 22\, 03-436 Wa
 rszawa\, Poland\, Praga\, 03-436\, Poland;X-APPLE-RADIUS=100;X-TITLE=Klub 
 Hydrozagadka:geo:52.259283,21.036925
END:VEVENT
BEGIN:VTIMEZONE
TZID:Europe/Warsaw
X-LIC-LOCATION:Europe/Warsaw
BEGIN:STANDARD
DTSTART:20191027T020000
TZOFFSETFROM:+0200
TZOFFSETTO:+0100
TZNAME:CET
END:STANDARD
END:VTIMEZONE
END:VCALENDAR