BEGIN:VCALENDAR
VERSION:2.0
PRODID:-//wp-events-plugin.com//7.2.3.1//EN
TZID:Europe/Warsaw
X-WR-TIMEZONE:Europe/Warsaw
BEGIN:VEVENT
UID:27827@night4u.pl
DTSTART;TZID=Europe/Warsaw:20191001T200000
DTEND;TZID=Europe/Warsaw:20191002T020000
DTSTAMP:20190916T211209Z
URL:https://night4u.pl/wydarzenia/funksoul-party/
SUMMARY:Funk&Soul Party
DESCRIPTION:Funk&Soul Party to impreza\, na którą czeka całe miasto! Pod
 czas jednego wieczoru w wyjątkowej przestrzeni klubu BARdzo bardzo spotka
 ją się muzyka wykonywana na żywo\, DJe\, tancerze\, Wy i My. \n\nPamię
 tacie jamy w klubach takich jak Muza\, Mono czy 55 w PKiNie (jeśli nie pa
 miętacie\, to tym bardziej wpadnijcie poznać ten klimat)? Postanowiliśm
 y ideę naszych muzycznych spotkań oprzeć o te kultowe wzorce. Muzyka b
 ędzie powstawała na scenie bez żadnych ograniczeń. Każdą imprezę b
 ędzie rozpoczynał nowy line up ekipy rozgrywającej\, która prowadzić 
 Was będzie przez jamowe wieczory. \n\nNick Sinckler - Vocal \nMichal Kowa
 lski - Piano\nŁukasz Belcyr - gitara\nMarcin Gańko - sax\nMaciej Magnusk
 i - bass\nAga Yano - percussion\nTomasz Mądzielewski - perkusja\n\nMuzyka
  to wolność\, chcemy improwizować razem z Wami na scenie\, chcemy tańc
 zyć i bawić się do spontanicznie tworzonych dźwięków. \n\nWeźcie in
 strumenty\, przyjdźcie potańczyć\, pograć\, pośpiewać (wszystkie kom
 binacje są dozwolone) i bawcie się razem z nami. Stwórzmy razem wyjątk
 owy klimat i zgraną ekipę.\n\nZapraszamy w każdy wtorek do klubu BARdzo
  Bardzo\, ul. Nowogrodzka 11\, Warszawa\nBilet wstępu: 20 zł\n\nStart 20
 :00
ATTACH;FMTTYPE=image/jpeg:https://night4u.pl/wp-content/uploads/2019/09/64
 675_image_69567167_1097080464014645_9060527252315308032_o.jpg
CATEGORIES:mazowieckie
LOCATION:Klub Hydrozagadka\, 11 listopada 22\, 03-436 Warszawa\, Poland\, P
 raga\, 03-436\, Poland
GEO:52.259283;21.036925
X-APPLE-STRUCTURED-LOCATION;VALUE=URI;X-ADDRESS=11 listopada 22\, 03-436 Wa
 rszawa\, Poland\, Praga\, 03-436\, Poland;X-APPLE-RADIUS=100;X-TITLE=Klub 
 Hydrozagadka:geo:52.259283,21.036925
END:VEVENT
BEGIN:VTIMEZONE
TZID:Europe/Warsaw
X-LIC-LOCATION:Europe/Warsaw
BEGIN:DAYLIGHT
DTSTART:20190331T030000
TZOFFSETFROM:+0100
TZOFFSETTO:+0200
TZNAME:CEST
END:DAYLIGHT
END:VTIMEZONE
END:VCALENDAR