BEGIN:VCALENDAR
VERSION:2.0
PRODID:-//wp-events-plugin.com//7.2.3.1//EN
TZID:Europe/Warsaw
X-WR-TIMEZONE:Europe/Warsaw
BEGIN:VEVENT
UID:6854@night4u.pl
DTSTART;TZID=Europe/Warsaw:20190424T200000
DTEND;TZID=Europe/Warsaw:20190424T230000
DTSTAMP:20190210T153123Z
URL:https://night4u.pl/wydarzenia/funky-klekspiosenki-z-filmow-o-panu-klek
 sie-w-starym-klasztorze/
SUMMARY:Funky Kleks:piosenki z filmów o Panu Kleksie w Starym Klasztorze
DESCRIPTION:Funky Kleks - piosenki z filmów o Panu Kleksie w Starym Klaszt
 orze!\n\nAkademia Pana Kleksa jest to kultowa ekranizacja cenionej książ
 ki Jana Brzechwy pod tym samym tytułem. Podobnie jak następne części -
  Podróże Pana Kleksa oraz Pan Kleks w Kosmosie wychowała całe pokoleni
 a Polaków. Nie mniej kultową stała się muzyka napisana do tych filmów
 . Piosenki autorstwa Andrzeja Korzyńskiego są doskonałymi kompozycjami\
 , stanowią jeden z kamieni milowych w polskiej muzyce rozrywkowej.\nMiło
 śników postaci Pana Kleksa i muzyki z filmów o nim zapraszamy 24 kwietn
 ia do Starego Klasztoru na koncert Funky Kleks!\n\nProjekt Funky Kleks pow
 stał z chęci oddania hołdu muzyce z filmów o Panu Kleksie\, pokazując
  że są to świetne kompozycje\, które mogą być grane i odbierane cał
 kowicie serio. Jest to projekt muzyczny założony przez wrocławskiego ba
 sistę Wojtka Bergandera\, który zaprosił do współpracy najlepszych wr
 ocławskich muzyków.\n\nZespół wystąpi w składzie:\nAnna Malek - woka
 l\nPiotr Świętoniowski - instrumenty klawiszowe\nMaciej Mazurek - gitara
 \nWojciech Bergander - gitara basowa\nJarosław Korzonek - perkusja\n\n24.
 04.19 godz.20.00 Sala Gotycka w Starym Klasztorze\, ul. Purkyniego 1\nFUNK
 Y KLEKS - piosenki z filmów o Panu Kleksie\ninfo o biletach wkrótce!
ATTACH;FMTTYPE=image/jpeg:https://night4u.pl/wp-content/uploads/2019/02/20
 002_image_51879028_2065034146945043_5201949906561925120_o.jpg
CATEGORIES:dolnośląskie
LOCATION:Stary Klasztor\, Purkyniego 1\, Wroclaw\, 50-155\, Poland
GEO:51.110198;17.039162
X-APPLE-STRUCTURED-LOCATION;VALUE=URI;X-ADDRESS=Purkyniego 1\, Wroclaw\, 50
 -155\, Poland;X-APPLE-RADIUS=100;X-TITLE=Stary Klasztor:geo:51.110198,17.0
 39162
END:VEVENT
BEGIN:VTIMEZONE
TZID:Europe/Warsaw
X-LIC-LOCATION:Europe/Warsaw
BEGIN:DAYLIGHT
DTSTART:20190331T030000
TZOFFSETFROM:+0100
TZOFFSETTO:+0200
TZNAME:CEST
END:DAYLIGHT
END:VTIMEZONE
END:VCALENDAR