BEGIN:VCALENDAR
VERSION:2.0
PRODID:-//wp-events-plugin.com//7.2.3.1//EN
TZID:Europe/Warsaw
X-WR-TIMEZONE:Europe/Warsaw
BEGIN:VEVENT
UID:33016@night4u.pl
DTSTART;TZID=Europe/Warsaw:20191110T200000
DTEND;TZID=Europe/Warsaw:20191110T230000
DTSTAMP:20200401T084746Z
URL:https://night4u.pl/wydarzenia/funtom-galeria-sowa-olsztyn-2/
SUMMARY:FunTom / Galeria Sowa / Olsztyn
DESCRIPTION:Zapraszamy do Galerii Sowa w Olsztynie na koncert zespołu FunT
 om\n10 listopada 2019 r. godz.20\n\nFunTom jest cenionym propagatorem znan
 ych polskich i światowych przebojów.\nFascynacje muzyczne zespołu opier
 ają się na takich wykonawcach jak:\nElvis Presley\, The Beatels\, Aerosm
 ith\, Guns'n Roses\, U2 i wielu innych\, również polskich wykonawców.\n
 \nKunszt muzyczny zespołu FunTom opiera się na wzorowej imitacji popular
 nych hitów\, jak również na prowadzaniu żywiołowości i elementów w
 łasnej interpretacji\, co gwarantuje niezapomniane wrażenia i świetną 
 zabawę :)\n\nWjazd 15 zł
ATTACH;FMTTYPE=image/jpeg:https://night4u.pl/wp-content/uploads/2019/10/81
 211_image_72945105_3122190474521006_4105136806738001920_n.jpg
CATEGORIES:warmińsko-mazurskie
LOCATION:Galeria Sowa\, ulica Zamkowa 2\, Olsztyn\, 10-074\, Poland
GEO:53.777539;20.473938
X-APPLE-STRUCTURED-LOCATION;VALUE=URI;X-ADDRESS=ulica Zamkowa 2\, Olsztyn\,
  10-074\, Poland;X-APPLE-RADIUS=100;X-TITLE=Galeria Sowa:geo:53.777539,20.
 473938
END:VEVENT
BEGIN:VTIMEZONE
TZID:Europe/Warsaw
X-LIC-LOCATION:Europe/Warsaw
BEGIN:STANDARD
DTSTART:20191027T020000
TZOFFSETFROM:+0200
TZOFFSETTO:+0100
TZNAME:CET
END:STANDARD
END:VTIMEZONE
END:VCALENDAR