BEGIN:VCALENDAR
VERSION:2.0
PRODID:-//wp-events-plugin.com//7.2.3.1//EN
TZID:Europe/Warsaw
X-WR-TIMEZONE:Europe/Warsaw
BEGIN:VEVENT
UID:5717@night4u.pl
DTSTART;TZID=Europe/Warsaw:20190223T223000
DTEND;TZID=Europe/Warsaw:20190224T073000
DTSTAMP:20190131T143303Z
URL:https://night4u.pl/wydarzenia/g-stepz-showcase-x-prozak-2-0/
SUMMARY:G-Stepz Showcase x Prozak 2.0
DESCRIPTION:Ekipa G-Stepz Recordz w składzie BC\, Vanatoski i Metod ponown
 ie wpadają do 2.0 żeby zaprezentować najmocniejsze basowe selekcje na p
 ołudniu Polski ? Jesteście gotowi? ?\n\n[-1] G-Stepz Showcase\nBC (G-Ste
 pz Records)\nVANATOSKI (G-Stepz Records)\nMETOD (G-Stepz Records)\nzebra\n
 \nDo 23:00: wejście FREE dla osób “biorących udział” w wydarzeniu.
 \nPo 23:00: 10/ 20 PLN.\n\n---\n\nThe G-Stepz Recordz crew including BC\, 
 Vanat and Metod are coming back to 2.0 to present strongest bass selection
  on the South part of Poland ? Are you ready? ?\n\n[-1] G-Stepz Showcase\n
 BC (G-Stepz Records)\nVANATOSKI (G-Stepz Records)\nMETOD (G-Stepz Records)
 \nzebra\n\nBy 11:00pm: FREE entry for Facebook “going” list.\nAfter 11
 :00pm: 10/ 20 PLN.
ATTACH;FMTTYPE=image/jpeg:https://night4u.pl/wp-content/uploads/2019/01/17
 392_image_50996701_2127959133931491_8530615368450834432_o.jpg
CATEGORIES:małopolskie
LOCATION:Prozak 2.0\, Plac Dominikański 6\, Kraków\, 31-032\, Poland
GEO:50.058986;19.938203
X-APPLE-STRUCTURED-LOCATION;VALUE=URI;X-ADDRESS=Plac Dominikański 6\, Krak
 ów\, 31-032\, Poland;X-APPLE-RADIUS=100;X-TITLE=Prozak 2.0:geo:50.058986,
 19.938203
END:VEVENT
BEGIN:VTIMEZONE
TZID:Europe/Warsaw
X-LIC-LOCATION:Europe/Warsaw
BEGIN:STANDARD
DTSTART:20181028T020000
TZOFFSETFROM:+0200
TZOFFSETTO:+0100
TZNAME:CET
END:STANDARD
END:VTIMEZONE
END:VCALENDAR