BEGIN:VCALENDAR
VERSION:2.0
PRODID:-//wp-events-plugin.com//7.2.3.1//EN
TZID:Europe/Warsaw
X-WR-TIMEZONE:Europe/Warsaw
BEGIN:VEVENT
UID:51862@night4u.pl
DTSTART;TZID=Europe/Warsaw:20251011T153000
DTEND;TZID=Europe/Warsaw:20251011T183000
DTSTAMP:20250901T203246Z
URL:https://night4u.pl/wydarzenia/gala-disco-polo-pulawy/
SUMMARY:GALA DISCO POLO | PUŁAWY
DESCRIPTION:🎶 Największe wydarzenie Disco Polo w województwie już 11 
 października 2025! 🎶\n\nPrzygotujcie się na niezapomnianą noc pełn
 ą muzyki\, tańca i najlepszej zabawy! Puławy zamienią się w prawdziw
 ą stolicę disco polo\, a scenę przejmą największe gwiazdy gatunku! 
 🎤✨\n\n🔥 Wystąpią:\n\n🌟 Zenon Martyniuk – król disco polo i
  twórca nieśmiertelnych hitów!\n\n🌟 Boys – legenda\, której przeb
 oje śpiewa cała Polska!\n\n🌟 Miły Pan – charyzmatyczny artysta\, k
 tóry rozkręci każdą imprezę!\n\n🌟Topky - dziewczyny swoimi hitami 
 rozgrzeją całą Arenę do czerwoności!\n\n🌟 Defis – mistrz hitów\
 , które nie schodzą z list przebojów!\n\n🌟 Playboys – młodość\,
  energia i niepowtarzalny styl!\n\n🌟 Łobuzy – "Ona czuje we mnie pin
 iądz" i inne hity na żywo!\n\n🌟 Disco Boys – eksplozja tanecznych r
 ytmów!\n\n🌟 Pudzian Band – siła\, moc i niezapomniane brzmienia!\n\
 n🌟 News – gwarancja doskonałej zabawy!\n\n🎊 Szykujcie się na wyj
 ątkową atmosferę\, potężną dawkę pozytywnej energii i najlepsze ryt
 my\, które nie pozwolą Wam ustać w miejscu! 💃🕺\n\n📍 Gdzie? Pu
 ławy\n\n📅 Kiedy? 11 października 2025\n\nWięcej informacji znajdziec
 ie na social mediach Młode Puławy! 🔥🎶\n\n🪩 To będzie najwięks
 za impreza tej jesieni – nie może Cię zabraknąć! 🪩\n\nBilety dost
 ępne: https://www.biletomat.pl/bilety/gala-disco-polo-pulawy-74330/
ATTACH;FMTTYPE=image/jpeg:https://night4u.pl/wp-content/uploads/2025/05/GA
 LA-DISCO-POLO-PULAWY.jpg
CATEGORIES:lubelskie
LOCATION:Grupa Azoty Arena\, Grupa Azoty Arena\, 
X-APPLE-STRUCTURED-LOCATION;VALUE=URI;X-ADDRESS=Grupa Azoty Arena\, ;X-APPL
 E-RADIUS=100;X-TITLE=Grupa Azoty Arena:geo:0,0
END:VEVENT
BEGIN:VTIMEZONE
TZID:Europe/Warsaw
X-LIC-LOCATION:Europe/Warsaw
BEGIN:DAYLIGHT
DTSTART:20250330T030000
TZOFFSETFROM:+0100
TZOFFSETTO:+0200
TZNAME:CEST
END:DAYLIGHT
END:VTIMEZONE
END:VCALENDAR