BEGIN:VCALENDAR
VERSION:2.0
PRODID:-//wp-events-plugin.com//7.2.3.1//EN
TZID:Europe/Warsaw
X-WR-TIMEZONE:Europe/Warsaw
BEGIN:VEVENT
UID:42063@night4u.pl
DTSTART;TZID=Europe/Warsaw:20200119T173000
DTEND;TZID=Europe/Warsaw:20200119T213000
DTSTAMP:20200119T193013Z
URL:https://night4u.pl/wydarzenia/gdansk-x-koncert-ratujemymajekaplon/
SUMMARY:Gdańsk x koncert #RatujemyMajęKapłon
DESCRIPTION:Maję Kapłon najpewniej pamiętacie z 8 edycji The Voice of Po
 land. \nWłaśnie tam swoim głosem\, wrażliwością i uśmiechem podbił
 a serca milionów widzów i całej produkcji\, a jej debiutancki singiel '
 Plaża nad Wisłą' oczarował nas już po pierwszych dźwiękach.\nNieste
 ty od kilku miesięcy nawet ukochane śpiewanie sprawia jej fizyczny ból.
 \n\nMaja urodziła się z zaawansowaną skoliozą. Z tego powodu przeszła
  w życiu 18 operacji\, z czego wstawienie metalowego pręta wspomagające
 go jej kręgosłup miał być tą ostatnią.\nNiestety pręt ten pękł i 
 naciska na jej narządy wewnętrzne\, w tym płuca. Jej jedyną szansą je
 st operacja w Nowym Jorku za 5\,5mln PLN.\nTo duża kwota\, ale razem damy
  radę.\nPomóżmy Mai stanąć na nogi!\n\n---\n\nBądźcie z nami już 1
 9.01.2020 w Protokulturze\, gdzie pod hasłem #RatujemyMajeKaplon zagrają
  z nami nie kto inny jak:\n- Michał SZCZYGIEŁ / VOP 8\n- Marta GAŁUSZEW
 SKA / VOP 8 👑\n- Dominika CHMIELIŃSKA / VOP 8\n- Alicja SZEMPLIŃSKA /
  VOP 10 👑\n\nDo tego towarzyszyć im będzie LIVE BAND w dobrze znanym 
 trójmiejskim fanom muzyki składzie:\n- Michał Landowski / gitara\n- Pio
 tr Jędrzejewski / klawisz\n- Krzysiek Słodkowski / bas\n- Piotr Abraham 
 / perkusja\n\nAle to nie koniec atrakcji!\nBędziemy mieć dla Was unikato
 we przedmioty do licytacji (już niedługo ujawnimy Wam co dokładnie!)\, 
 a wspierać nas w tym dniu będa również.. FOOD TRUCKI!\nWygladajcie wi
 ęc na horyzoncie Waszych ulubionych smaków w Zebra Burger\, TadamTadam o
 raz Frytce Belgijskiej 🔥\n\nCały event z kolei poprowadzi dla Was Wito
 ld Klonowski.\n\nJedno jest pewne - NIE MOŻE Was zabraknać. \n\nDrzwi ot
 wieramy o 17:30.\n\n---\n\nWejście: cegiełka na leczenie Mai w wysokośc
 i 20 zł\n\nPŁATNOŚĆ W KLUBIE TYLKO GOTÓWKĄ 💸
ATTACH;FMTTYPE=image/jpeg:https://night4u.pl/wp-content/uploads/2020/01/13
 2686_image_82832896_130242858460515_745878885505171456_n.jpg
CATEGORIES:pomorskie
LOCATION:Protokultura - Klub Sztuki Alternatywnej\, Ul. Niterów 29B\, Gdan
 sk\, 80-863\, Poland
GEO:54.364798;18.645647
X-APPLE-STRUCTURED-LOCATION;VALUE=URI;X-ADDRESS=Ul. Niterów 29B\, Gdansk\,
  80-863\, Poland;X-APPLE-RADIUS=100;X-TITLE=Protokultura - Klub Sztuki Alt
 ernatywnej:geo:54.364798,18.645647
END:VEVENT
BEGIN:VTIMEZONE
TZID:Europe/Warsaw
X-LIC-LOCATION:Europe/Warsaw
BEGIN:STANDARD
DTSTART:20191027T020000
TZOFFSETFROM:+0200
TZOFFSETTO:+0100
TZNAME:CET
END:STANDARD
END:VTIMEZONE
END:VCALENDAR