BEGIN:VCALENDAR
VERSION:2.0
PRODID:-//wp-events-plugin.com//7.2.3.1//EN
TZID:Europe/Warsaw
X-WR-TIMEZONE:Europe/Warsaw
BEGIN:VEVENT
UID:6097@night4u.pl
DTSTART;TZID=Europe/Warsaw:20190202T220000
DTEND;TZID=Europe/Warsaw:20190203T050000
DTSTAMP:20190201T053802Z
URL:https://night4u.pl/wydarzenia/gdzie-sie-podzialy-tamte-prywatki-2/
SUMMARY:Gdzie się podziały tamte Prywatki
DESCRIPTION:Gdzie się podziały tamte prywatki\nGdzie te dziewczyny\, gdzi
 e tamten świat\nGdzie się podziały nasze wspomnienia\nTamtych szalonych
  wspaniałych lat\n➡️ Prywatka \n\nStart: 22:00\nSala główna: Disco 
 & Dance 80'\, 90' oraz hity lat 00' & 10'\nMała sala: Legendarne Polskie 
 Przeboje\nWstęp: 10 PLN / 21+\n\nSTAŁA PROMOCJA NA KOKTAJLE\n? Piña Col
 ada 12 PLN ?\n? Cuba Libre 12 PLN ?\n\nInfo & Rezerwacje:\n☎️ 666 020 
 100
ATTACH;FMTTYPE=image/jpeg:https://night4u.pl/wp-content/uploads/2019/02/18
 234_image_51056059_368999390549886_1580385159897677824_o.jpg
CATEGORIES:łódzkie
LOCATION:Prywatka\, Andrzeja Struga 8/10\, Łódź\, 90-426\, Poland
GEO:51.765118;19.455113
X-APPLE-STRUCTURED-LOCATION;VALUE=URI;X-ADDRESS=Andrzeja Struga 8/10\, Łó
 dź\, 90-426\, Poland;X-APPLE-RADIUS=100;X-TITLE=Prywatka:geo:51.765118,19
 .455113
END:VEVENT
BEGIN:VTIMEZONE
TZID:Europe/Warsaw
X-LIC-LOCATION:Europe/Warsaw
BEGIN:STANDARD
DTSTART:20181028T020000
TZOFFSETFROM:+0200
TZOFFSETTO:+0100
TZNAME:CET
END:STANDARD
END:VTIMEZONE
END:VCALENDAR