BEGIN:VCALENDAR
VERSION:2.0
PRODID:-//wp-events-plugin.com//7.2.3.1//EN
TZID:Europe/Warsaw
X-WR-TIMEZONE:Europe/Warsaw
BEGIN:VEVENT
UID:32112@night4u.pl
DTSTART;TZID=Europe/Warsaw:20191018T220000
DTEND;TZID=Europe/Warsaw:20191019T060000
DTSTAMP:20200331T205447Z
URL:https://night4u.pl/wydarzenia/geek-party-lista-free-do-2300/
SUMMARY:GEEK PARTY // Lista Free Do 23:00
DESCRIPTION:LISTA FB WCHODZI FREE DO 23:00! \nWYSTARCZY KLIKNĄĆ "WEZMĘ U
 DZIAŁ"\nLISTĘ ZAMYKAMY O 19:00!\nNIE DOTYCZY IMPREZY MISIOWEJ.\n\nTEN WE
 EKEND NALEŻY DO GRACZY // PGA IS COMING &lt\;3\nKto z Nas nie przeszedłb
 y Mario w lewo :) Geek is sexy geek is smart :P Macie jakieś przebrania ?
  Motywy geek&#039\;owe ? Zakładajcie i w klub uderzajcie a całą noc wej
 dziecie za FREE &lt\;3\n==============================\nTEN WEEKEND TO TAK
 ŻE MISIOWE WYBORY. Odpalamy specjalnie dla miśków dodatkowo dwie nowe s
 ale\, gdzie wstęp będzie tylko dla facetów. Jeśli chcesz możesz być 
 tam i TY. \nW piątek na MIŚKI wstęp 25 zł / w sobotę 35 zł. TYLKO DL
 A MĘŻCZYZN. ZAKUP TAKOWEGO WSTĘPU upoważnia do bawienia się w całym 
 klubie. :) \n\n====================================\nZAGRAJĄ:\n==========
 ==========================\nHEAVEN: Saayder\n=============================
 =======\nPURGATORY: DJ PAT RIXX\n====================================\nHEL
 L: DJ Meehoo\n====================================\nKARAOKE: Christoff\n==
 ==================================\n\n+ 2 MISIOWE SALE...INFORMACJE TOP SE
 CRET :)\nTam wstęp tylko dla mężczyzn :)\n\nSTART: \n\n22:00 \nWstęp 1
 0 zł\nLISTA FB FREE DO 23:00 / LISTĘ ZAMYKAMY O 19:00\nNIE DOTYCZY IMPRE
 ZY MISIOWEJ.
ATTACH;FMTTYPE=image/jpeg:https://night4u.pl/wp-content/uploads/2019/10/76
 429_image_72523152_2595823997176218_4824718719886295040_o.jpg
CATEGORIES:wielkopolskie
LOCATION:HAH Poznań\, ul. Małe Garbary 6\, Poznan\, 61-756\, Poland
GEO:52.411608;16.936092
X-APPLE-STRUCTURED-LOCATION;VALUE=URI;X-ADDRESS=ul. Małe Garbary 6\, Pozna
 n\, 61-756\, Poland;X-APPLE-RADIUS=100;X-TITLE=HAH Poznań:geo:52.411608,1
 6.936092
END:VEVENT
BEGIN:VTIMEZONE
TZID:Europe/Warsaw
X-LIC-LOCATION:Europe/Warsaw
BEGIN:DAYLIGHT
DTSTART:20190331T030000
TZOFFSETFROM:+0100
TZOFFSETTO:+0200
TZNAME:CEST
END:DAYLIGHT
END:VTIMEZONE
END:VCALENDAR