BEGIN:VCALENDAR
VERSION:2.0
PRODID:-//wp-events-plugin.com//7.2.3.1//EN
TZID:Europe/Warsaw
X-WR-TIMEZONE:Europe/Warsaw
BEGIN:VEVENT
UID:47445@night4u.pl
DTSTART;TZID=Europe/Warsaw:20200226T193000
DTEND;TZID=Europe/Warsaw:20200226T203000
DTSTAMP:20200331T142254Z
URL:https://night4u.pl/wydarzenia/genialna-epoka-czytanie-w-ciemnosciach/
SUMMARY:Genialna epoka. Czytanie w ciemnościach
DESCRIPTION:„Istnieją takie boczne odnogi czasu\, trochę nielegalne co 
 prawda i problematyczne\, ale gdy się wiezie taką kontrabandę jak my\, 
 takie nadliczbowe zdarzenie nie do zaszeregowania – nie można być zana
 dto wybrednym. Spróbujmy tedy odgałęzić w którymś punkcie historii t
 aką boczną odnogę\, ślepy tor\, ażeby zepchnąć nań te nielegalne d
 zieje”.\n(Bruno Schulz\, "Genialna epoka")\n\n"Genialna epoka" czytana w
  ciemności wykracza poza świat fikcji\, dotykając biografii genialnego 
 autora z Drohobycza. Impresja i fantasmagoria przeplata się tu z codzienn
 ością i zdarzeniami realnymi. To kameralny spektakl o epizodzie z życia
  nastoletniego Józefa i dojrzałego Bruna. Wyobraźnia staje się schroni
 eniem\, kiedy nadciąga mrok.\n\nWystępują: Piotr Downar-Zapolski\, Ryfk
 a Gorzkowska\, Dominik Smaruj\, Jakub Stefaniak\nMuzyka: Mateusz Stuczyńs
 ki\nWizualizacje i fotosy: Tomasz Mniamos\nScenariusz i reżyseria: czervo
 01\n\nProdukcja: plazaciemnia.pl\nKoprodukcja: Ośrodek Kultury i Sztuki w
 e Wrocławiu — Instytucja Kultury Samorządu Województwa Dolnośląskie
 go.\nProjekt dofinansowany z Budżetu Województwa Dolnośląskiego\n\nBil
 ety: 15 zł. Liczba miejsc ograniczona.\n\nBilety do nabycia : \n– na ek
 obilet.pl\n–  na godzinę przed spektaklem w miejscu spektaklu – D.K. 
 Luksus\, ul. Wita Stwosza 16\, Wrocław (płatność wyłącznie gotówką
 )
ATTACH;FMTTYPE=image/jpeg:https://night4u.pl/wp-content/uploads/2020/02/15
 8392_image_86973137_2906937532678721_4267747408185655296_o.jpg
CATEGORIES:dolnośląskie
LOCATION:D.K. Luksus\, Wita Stwosza 16\, Wroclaw\, 50-148\, Poland
GEO:51.10958;17.03678
X-APPLE-STRUCTURED-LOCATION;VALUE=URI;X-ADDRESS=Wita Stwosza 16\, Wroclaw\,
  50-148\, Poland;X-APPLE-RADIUS=100;X-TITLE=D.K. Luksus:geo:51.10958,17.03
 678
END:VEVENT
BEGIN:VTIMEZONE
TZID:Europe/Warsaw
X-LIC-LOCATION:Europe/Warsaw
BEGIN:STANDARD
DTSTART:20191027T020000
TZOFFSETFROM:+0200
TZOFFSETTO:+0100
TZNAME:CET
END:STANDARD
END:VTIMEZONE
END:VCALENDAR