BEGIN:VCALENDAR
VERSION:2.0
PRODID:-//wp-events-plugin.com//7.2.3.1//EN
TZID:Europe/Warsaw
X-WR-TIMEZONE:Europe/Warsaw
BEGIN:VEVENT
UID:30265@night4u.pl
DTSTART;TZID=Europe/Warsaw:20191005T220000
DTEND;TZID=Europe/Warsaw:20191006T040000
DTSTAMP:20191003T234715Z
URL:https://night4u.pl/wydarzenia/gentleman-night-whisky-50-sobota-w-futur
 yscie/
SUMMARY:GENTLEMAN NIGHT / WHISKY - 50%/ SOBOTA W FUTURYŚCIE
DESCRIPTION:W sobotnią noc - specjalnie dla Was każda whisky -50% \n\nNoc
  pełna wrażeń\, niepowtarzalny muzyczny klimat\, najlepsze drinki i wyj
 ątkowa atmosfera!\nWejście :\nZ zaproszeniem : FREE\nReszta świata 10\,
 00
ATTACH;FMTTYPE=image/jpeg:https://night4u.pl/wp-content/uploads/2019/10/69
 790_image_71496664_2353772988024858_6966219525687607296_o.jpg
CATEGORIES:łódzkie
LOCATION:Klub Futurysta\, Al. Politechniki 7\, Łódź\, 93-590\, Poland
GEO:51.747169;19.450204
X-APPLE-STRUCTURED-LOCATION;VALUE=URI;X-ADDRESS=Al. Politechniki 7\, Łód
 ź\, 93-590\, Poland;X-APPLE-RADIUS=100;X-TITLE=Klub Futurysta:geo:51.7471
 69,19.450204
END:VEVENT
BEGIN:VTIMEZONE
TZID:Europe/Warsaw
X-LIC-LOCATION:Europe/Warsaw
BEGIN:DAYLIGHT
DTSTART:20190331T030000
TZOFFSETFROM:+0100
TZOFFSETTO:+0200
TZNAME:CEST
END:DAYLIGHT
END:VTIMEZONE
END:VCALENDAR