BEGIN:VCALENDAR
VERSION:2.0
PRODID:-//wp-events-plugin.com//7.2.3.1//EN
TZID:Europe/Warsaw
X-WR-TIMEZONE:Europe/Warsaw
BEGIN:VEVENT
UID:24107@night4u.pl
DTSTART;TZID=Europe/Warsaw:20190827T223000
DTEND;TZID=Europe/Warsaw:20190828T050000
DTSTAMP:20190806T170448Z
URL:https://night4u.pl/wydarzenia/get-lost-11/
SUMMARY:GET LOST
DESCRIPTION:Masz ochotę zgubić się w klubie pełnym dobrych brzmień i k
 lasycznych hitów R&B? Odkryj swoje klimaty we wtorki w Prozak 2.0! \n\nLI
 STA https://www.where2b.org/event/80138— wejście za darmo całą noc + 
 promo menu:\n\nPiwo 5zł\nŻubrówka Czarna 40ml + Soft 8zł\nWhisky Grant
 s 40ml + Pepsi = 8zł\nŻubrówka Czarna 0\,7L + Soft 1L = 59zł\nWhisky G
 rants 0\,7L + 1L Pepsi 59zł\n\nRezerwacje: krakow@where2B.org\, + 48 536 
 90 75 80\, FB: where2B Kraków\n\n--ENGLISH VERSION--\n\nDo you want to ge
 t lost in a club full of good sounds and classic R&B hits? Discover your m
 ood on Tuesdays in Prozak 2.0!\n\nGuest list https://www.where2b.org/event
 /80138 — free entrance all night long + promo menu:\n\nBeer 5zł\nŻubr
 ówka Czarna 40ml + Soft 8zł\nWhisky Grants 40ml + Pepsi = 8zł\nŻubrów
 ka Czarna 0\,7L + Soft 1L = 59zł\nWhisky Grants 0\,7L + 1L Pepsi 59zł\n\
 nReservations: krakow@where2B.org\, + 48 536 90 75 80\, FB: where2B Krakó
 w
ATTACH;FMTTYPE=image/jpeg:https://night4u.pl/wp-content/uploads/2019/08/56
 828_image_68262828_10157390493731788_8132429444359913472_n.jpg
CATEGORIES:małopolskie
LOCATION:Prozak 2.0\, Plac Dominikański 6\, Kraków\, 31-032\, Poland
GEO:50.058986;19.938203
X-APPLE-STRUCTURED-LOCATION;VALUE=URI;X-ADDRESS=Plac Dominikański 6\, Krak
 ów\, 31-032\, Poland;X-APPLE-RADIUS=100;X-TITLE=Prozak 2.0:geo:50.058986,
 19.938203
END:VEVENT
BEGIN:VTIMEZONE
TZID:Europe/Warsaw
X-LIC-LOCATION:Europe/Warsaw
BEGIN:DAYLIGHT
DTSTART:20190331T030000
TZOFFSETFROM:+0100
TZOFFSETTO:+0200
TZNAME:CEST
END:DAYLIGHT
END:VTIMEZONE
END:VCALENDAR