BEGIN:VCALENDAR
VERSION:2.0
PRODID:-//wp-events-plugin.com//7.2.3.1//EN
TZID:Europe/Warsaw
X-WR-TIMEZONE:Europe/Warsaw
BEGIN:VEVENT
UID:27488@night4u.pl
DTSTART;TZID=Europe/Warsaw:20190927T220000
DTEND;TZID=Europe/Warsaw:20190928T040000
DTSTAMP:20190914T110758Z
URL:https://night4u.pl/wydarzenia/gimme-me-more-party-tribute-to-britney-d
 j-filodendron-monstera/
SUMMARY:GIMME ME MORE PARTY Tribute to Britney | Dj Filodendron Monstera
DESCRIPTION:Kochani!!!\nZaczynamy cykl poświęcony największym divom muzy
 ki!!!\nNa pierwszy ogień bierzemy Britney Spears :):):)\nTego wieczoru ni
 e zabraknie takich hitów jak Work Bitch\, Womanizer\, Sometimes\, (You Dr
 ive Me) Crazy....\nEsencja lat 90′ i 00' ! Dzięki takim utworom Britney
  w pełni zasługuje na miano Księżniczki Popu!!!\nPośpiewajmy razem "O
 ops!… I Did It Again" - ubierzcie lateksowy strój\, który każda dziew
 czyna (i sporo chłopców… Oops!) chciało mieć wtedy na sobie przy cho
 reografii\, którą znał każdy szanujący się fan muzyki pop! :P\n\nZag
 ra dla Was niezastąpiona Filodendron Monstera\n__________________________
 _____________________________________\nTAX: free
ATTACH;FMTTYPE=image/jpeg:https://night4u.pl/wp-content/uploads/2019/09/63
 999_image_69549662_2509131555815446_2254297272743362560_o.jpg
CATEGORIES:dolnośląskie
LOCATION:CoffeePlanet Wrocław\, Rynek 7\, Wroclaw\, 50-106\, Poland
GEO:51.1102;17.03022
X-APPLE-STRUCTURED-LOCATION;VALUE=URI;X-ADDRESS=Rynek 7\, Wroclaw\, 50-106\
 , Poland;X-APPLE-RADIUS=100;X-TITLE=CoffeePlanet Wrocław:geo:51.1102,17.0
 3022
END:VEVENT
BEGIN:VTIMEZONE
TZID:Europe/Warsaw
X-LIC-LOCATION:Europe/Warsaw
BEGIN:DAYLIGHT
DTSTART:20190331T030000
TZOFFSETFROM:+0100
TZOFFSETTO:+0200
TZNAME:CEST
END:DAYLIGHT
END:VTIMEZONE
END:VCALENDAR