BEGIN:VCALENDAR
VERSION:2.0
PRODID:-//wp-events-plugin.com//7.2.3.1//EN
TZID:Europe/Warsaw
X-WR-TIMEZONE:Europe/Warsaw
BEGIN:VEVENT
UID:49321@night4u.pl
DTSTART;TZID=Europe/Warsaw:20200307T220000
DTEND;TZID=Europe/Warsaw:20200308T060000
DTSTAMP:20200331T140711Z
URL:https://night4u.pl/wydarzenia/girls-just-wanna-have-fun-lista-free-do-
 2300-2/
SUMMARY:GIRLS JUST WANNA HAVE FUN // Lista Free Do 23:00
DESCRIPTION:LISTA FB WCHODZI FREE DO 23:00! \nWYSTARCZY KLIKNĄĆ "WEZMĘ U
 DZIAŁ"\nLISTĘ ZAMYKAMY O 19:00!\n\nGirls\, to Wasze Święto &lt\;3\nDla
  pierwszych 100 Dam WELCOME DRINASY na sali HELL &lt\;3\nGIRLS JUST WANNA 
 HAVE FUN &lt\;3\n\n====================================\nZAGRAJĄ: \n=====
 ===============================\nHELL: Bart Wave\n========================
 ============\nPANDEMONIUM: Matthew F\n====================================
 \nGEHENNA GIMELA SHOW: KARAOKE Z Mariolkaa Rebell\n=======================
 =============\nPURGATORY: HOUSE MUSIC SETS\n==============================
 ======\nNEW HEAVEN: Risto\n====================================\nSTART: \n
 \n22:00 \n\nWstęp 20 zł\n\nLISTA FB FREE DO 23:00 / LISTĘ ZAMYKAMY O 19
 :00
ATTACH;FMTTYPE=image/jpeg:https://night4u.pl/wp-content/uploads/2020/03/17
 0746_image_88197238_2891017630990185_237258752254803968_o.jpg
CATEGORIES:wielkopolskie
LOCATION:HAH Poznań\, ul. Małe Garbary 6\, Poznan\, 61-756\, Poland
GEO:52.411608;16.936092
X-APPLE-STRUCTURED-LOCATION;VALUE=URI;X-ADDRESS=ul. Małe Garbary 6\, Pozna
 n\, 61-756\, Poland;X-APPLE-RADIUS=100;X-TITLE=HAH Poznań:geo:52.411608,1
 6.936092
END:VEVENT
BEGIN:VTIMEZONE
TZID:Europe/Warsaw
X-LIC-LOCATION:Europe/Warsaw
BEGIN:STANDARD
DTSTART:20191027T020000
TZOFFSETFROM:+0200
TZOFFSETTO:+0100
TZNAME:CET
END:STANDARD
END:VTIMEZONE
END:VCALENDAR