BEGIN:VCALENDAR
VERSION:2.0
PRODID:-//wp-events-plugin.com//7.2.3.1//EN
TZID:Europe/Warsaw
X-WR-TIMEZONE:Europe/Warsaw
BEGIN:VEVENT
UID:18923@night4u.pl
DTSTART;TZID=Europe/Warsaw:20190614T210000
DTEND;TZID=Europe/Warsaw:20190615T050000
DTSTAMP:20190611T135130Z
URL:https://night4u.pl/wydarzenia/girls-night-out-piatek-14-06-cala-noc-pa
 nie-wstep-free/
SUMMARY:Girls Night Out - piątek 14.06 - całą noc Panie wstęp free
DESCRIPTION:Drogie Kobietki czy piątek nie jest idealnym dniem na rzucenie
  wszystkiego i wyjście w miasto ?! Ależ TAK ! To doskonała okazja na to
 \, aby zaszaleć z koleżankami .... Klub Cina wychodzi Wam na przeciw i o
 twiera specjalnie dla Was swoje imprezowe wrota - takiej okazji nie możec
 ie zmarnować ! Przez całą noc Panie wstęp free\n \nSpecjalnie dla nasz
 ych Pań imprezę poprowadzi - DJ ROSSI \n \nPrzez całą noc wszystkie ko
 bietki mają wstęp za free\nPanowie do północy wstęp 5 zł\, po półn
 ocy Panowie studenci wstęp 7 zł\, pozostali Panowie 10 zł\, selekcja 18
 +\n \nCzekamy na Was - startujemy o godz. 21:00 \n \nPODSUMOWUJĄC : \n☛
    Data: 14.06 - PIĄTEK \n☛   Godzina: 21:00 \n☛   Miejsce: Cina Club
   \n \nLadies po darmowe loże zapraszamy na -------->   www.emenago.opole
 .pl
ATTACH;FMTTYPE=image/jpeg:https://night4u.pl/wp-content/uploads/2019/06/45
 778_image_62073981_2486419554754945_1783826718348279808_o.jpg
CATEGORIES:opolskie
LOCATION:Cina Club\, Katowicka 55\, Opole\, 45-061\, Poland
GEO:50.667448;17.93523
X-APPLE-STRUCTURED-LOCATION;VALUE=URI;X-ADDRESS=Katowicka 55\, Opole\, 45-0
 61\, Poland;X-APPLE-RADIUS=100;X-TITLE=Cina Club:geo:50.667448,17.93523
END:VEVENT
BEGIN:VTIMEZONE
TZID:Europe/Warsaw
X-LIC-LOCATION:Europe/Warsaw
BEGIN:DAYLIGHT
DTSTART:20190331T030000
TZOFFSETFROM:+0100
TZOFFSETTO:+0200
TZNAME:CEST
END:DAYLIGHT
END:VTIMEZONE
END:VCALENDAR