BEGIN:VCALENDAR
VERSION:2.0
PRODID:-//wp-events-plugin.com//7.2.3.1//EN
TZID:Europe/Warsaw
X-WR-TIMEZONE:Europe/Warsaw
BEGIN:VEVENT
UID:2077@night4u.pl
DTSTART;TZID=Europe/Warsaw:20190110T210000
DTEND;TZID=Europe/Warsaw:20190111T040000
DTSTAMP:20181231T133144Z
URL:https://night4u.pl/wydarzenia/glamour-poland-karnawal-2019/
SUMMARY:Glamour Poland / Karnawał 2019
DESCRIPTION:Już za chwilę piętro w windzie do nieba zmieni się z 8 na 9
 . Przypominasz sobie\, że koleżanka w tym roku założy suknię z welone
 m\, a Ty będziesz skakał ze szwagrem Kolaską w rytm "Prawy do lewego". 
 \n\nPamiętajcie\, że szczęśliwi czasu nie liczą\, dlatego zabierzemy 
 Was 10 stycznia 2019 "Parostatkiem w piękny rejs".\n\nGLAMOUR POLAND 2019
 \n10. 01. 2019 / godz. 21:00\nSpirala /  Mrowisko \nPszczyńska 85\nWstęp
  5 zł
ATTACH;FMTTYPE=image/jpeg:https://night4u.pl/wp-content/uploads/2018/12/81
 80_image_49052678_2031692693564238_3618496589531709440_o.jpg
CATEGORIES:śląskie
LOCATION:Klub Studencki Spirala\, Pszczyńska 85\, Gliwice\, 44-100\, Polan
 d
GEO:50.28534;18.67771
X-APPLE-STRUCTURED-LOCATION;VALUE=URI;X-ADDRESS=Pszczyńska 85\, Gliwice\, 
 44-100\, Poland;X-APPLE-RADIUS=100;X-TITLE=Klub Studencki Spirala:geo:50.2
 8534,18.67771
END:VEVENT
BEGIN:VTIMEZONE
TZID:Europe/Warsaw
X-LIC-LOCATION:Europe/Warsaw
BEGIN:STANDARD
DTSTART:20181028T020000
TZOFFSETFROM:+0200
TZOFFSETTO:+0100
TZNAME:CET
END:STANDARD
END:VTIMEZONE
END:VCALENDAR