BEGIN:VCALENDAR
VERSION:2.0
PRODID:-//wp-events-plugin.com//7.2.3.1//EN
TZID:Europe/Warsaw
X-WR-TIMEZONE:Europe/Warsaw
BEGIN:VEVENT
UID:50137@night4u.pl
DTSTART;TZID=Europe/Warsaw:20200314T220000
DTEND;TZID=Europe/Warsaw:20200315T060000
DTSTAMP:20200312T004347Z
URL:https://night4u.pl/wydarzenia/glasses-night-black-diamond-club-noc-kob
 iet-sobota-14-03/
SUMMARY:Glasses NIGHT / Black Diamond Club / Noc Kobiet / Sobota 14.03
DESCRIPTION:Panie wstęp wolny do 23:00 ❤/ Gwarancja pełnego klubu!\n\nC
 zy to prawda\, ze okulary mogą być seksowne? \nMy uważamy\, że jak naj
 bardziej TAK! \nDlatego dla pierwszych 100 osób rozdajemy SUPER okularki 
 👓 \n\nSobotnia Noc Kobiet w Black Diamond Club! Drogie Panie ta noc jes
 t dedykowana właśnie dla Was! Każdą z Was przywitamy lampką mocno sch
 łodzonego szampana. \nGorąco Zapraszamy❤ #SpotkajmySięwBlacku\n\nReze
 rwacje Loży (sala główna) oraz Loży VIP ROOM -\n661894138\n\nStart : 2
 2.00/ obowiązuje selekcja \nKlub do osób pełnoletnich. \nPanie wstęp w
 olny do 23:00❤\nKarty VIP wstęp wolny do 24:00\n\n✅ Instagram⤵\nbla
 ckdiamond_bialystok\n\n✅ Nasz hashtag: #spotkajmysięwblacku\nDo zobacze
 nia!
ATTACH;FMTTYPE=image/jpeg:https://night4u.pl/wp-content/uploads/2020/03/17
 5180_image_89524440_2992054440852942_1778481734627622912_o.jpg
CATEGORIES:podlaskie
LOCATION:Black Diamond Club\, Piękna 2\, Białystok\, 15-282\, Poland
GEO:53.128851;23.153415
X-APPLE-STRUCTURED-LOCATION;VALUE=URI;X-ADDRESS=Piękna 2\, Białystok\, 15
 -282\, Poland;X-APPLE-RADIUS=100;X-TITLE=Black Diamond Club:geo:53.128851,
 23.153415
END:VEVENT
BEGIN:VTIMEZONE
TZID:Europe/Warsaw
X-LIC-LOCATION:Europe/Warsaw
BEGIN:STANDARD
DTSTART:20191027T020000
TZOFFSETFROM:+0200
TZOFFSETTO:+0100
TZNAME:CET
END:STANDARD
END:VTIMEZONE
END:VCALENDAR