BEGIN:VCALENDAR
VERSION:2.0
PRODID:-//wp-events-plugin.com//7.2.3.1//EN
TZID:Europe/Warsaw
X-WR-TIMEZONE:Europe/Warsaw
BEGIN:VEVENT
UID:49746@night4u.pl
DTSTART;TZID=Europe/Warsaw:20210924T200000
DTEND;TZID=Europe/Warsaw:20210924T220000
DTSTAMP:20210908T144820Z
URL:https://night4u.pl/wydarzenia/glowny-zawor-jazzu-w-poznaniu/
SUMMARY:Główny Zawór Jazzu w Poznaniu!
DESCRIPTION:KONCERT PRZEŁOŻONY.\n\nWskazana w wydarzeniu data jest datą 
 orientacyjną. Bliżej terminu zostanie wskazana faktyczna data koncertu z
 espołu Główny Zawór Jazzu.\n\nGłówny Zawór Jazzu to energiczny proj
 ekt łączący pozornie niedostępne wariacje nurtów jazzowych z wszechob
 ecną muzyką pop. Znane z rozgłośni radiowych polskie przeboje przedsta
 wione są w swingowych aranżacjach\, zabierając słuchacza w podróż po
  zadymionych klubach lat 30-tych\, 40-tych i 50-tych. Dziewięcioosobowy s
 kład z Poznania łamie bariery międzygatunkowe w utworach takich gwiazd 
 jak Monika Brodka\, Margaret czy Perfect i wielu\, wielu innych. Odbiorcy 
 serwowana jest nietuzinkowa mieszanka płynąca pełnią brzmienia wprost 
 przez Główny Zawór Jazzu.\n\nOprócz regularnych koncertów zespół pr
 omuje swoją muzykę poprzez nagrania w formie live sessions\, które dost
 ępne są na YouTube:\n\nPaweł Domagała -Weź nie pytaj - (Retro Big Ban
 d Cover)\nhttps://youtu.be/1xWZxVqCRUk\n\nKrzysztof Zalewski - Jaśniej (R
 etro Jazz Cover)\nhttps://youtu.be/So9S2GJ6Zzk\n\nPerfect - Ale wkoło jes
 t wesoło (Big Band Cover)\nhttps://youtu.be/AfejRjo1q-0\n\nZakupione bile
 ty na wcześniejszy termin zachowują ważność!\n\nBilety dostępne wkr
 ótce!
ATTACH;FMTTYPE=image/jpeg:https://night4u.pl/wp-content/uploads/2021/04/17
 3551_image_159893098_914598716036771_2843177543126774703_n.jpg
CATEGORIES:wielkopolskie
LOCATION:Próżność\, Niepodległości 8a\, Poznan\, 61-875\, Poland
GEO:52.405584;16.91872
X-APPLE-STRUCTURED-LOCATION;VALUE=URI;X-ADDRESS=Niepodległości 8a\, Pozna
 n\, 61-875\, Poland;X-APPLE-RADIUS=100;X-TITLE=Próżność:geo:52.405584,
 16.91872
END:VEVENT
BEGIN:VTIMEZONE
TZID:Europe/Warsaw
X-LIC-LOCATION:Europe/Warsaw
BEGIN:DAYLIGHT
DTSTART:20210328T030000
TZOFFSETFROM:+0100
TZOFFSETTO:+0200
TZNAME:CEST
END:DAYLIGHT
END:VTIMEZONE
END:VCALENDAR