BEGIN:VCALENDAR
VERSION:2.0
PRODID:-//wp-events-plugin.com//7.2.3.1//EN
TZID:Europe/Warsaw
X-WR-TIMEZONE:Europe/Warsaw
BEGIN:VEVENT
UID:5708@night4u.pl
DTSTART;TZID=Europe/Warsaw:20190202T223000
DTEND;TZID=Europe/Warsaw:20190203T073000
DTSTAMP:20190131T143300Z
URL:https://night4u.pl/wydarzenia/go-girls-x-prozak-2-0-2/
SUMMARY:GO Girls! x Prozak 2.0
DESCRIPTION:Kolejny wspólny debiut na scenie rezydenckiej w 2.0 - Senthia 
 i VI po raz pierwszy (i na pewno nie ostatni) razem na scenie! Zaprezentuj
 ą Wam świeżą selekcję najlepszej muzyki elektronicznej w kolejnej ju
 ż odsłonie Go GIRLS! Nie myślcie jednak że będą delikatne ?\n\nPromo
  2.0:\nDo 24:00 piwo lane 0.5l za 3zł!\n\n[-2] Go GIRLS!\nVi\nSenthia\n\n
 Do 23:00: wejście FREE dla osób “biorących udział” w wydarzeniu.\n
 Po 23:00: 10/ 20 PLN.\n\n---\n\nYet another common debut on the residents 
 scene in 2.0 - Senthia and Vi for the first time playing together! They wi
 ll present you fresh selection of hottest electronic music in yet another 
 edition of Go GIRLS! Don’t you think think that they’ll be gentle thou
  ?\n\n[-2] Go GIRLS!\nVi\nSenthia\n\nBy 11pm: FREE entry for Facebook “g
 oing” list.\nAfter 11pm: 10/ 20 PLN
ATTACH;FMTTYPE=image/jpeg:https://night4u.pl/wp-content/uploads/2019/01/17
 374_image_50802592_2127965717264166_4623555306578771968_o.jpg
CATEGORIES:małopolskie
LOCATION:Prozak 2.0\, Plac Dominikański 6\, Kraków\, 31-032\, Poland
GEO:50.058986;19.938203
X-APPLE-STRUCTURED-LOCATION;VALUE=URI;X-ADDRESS=Plac Dominikański 6\, Krak
 ów\, 31-032\, Poland;X-APPLE-RADIUS=100;X-TITLE=Prozak 2.0:geo:50.058986,
 19.938203
END:VEVENT
BEGIN:VTIMEZONE
TZID:Europe/Warsaw
X-LIC-LOCATION:Europe/Warsaw
BEGIN:STANDARD
DTSTART:20181028T020000
TZOFFSETFROM:+0200
TZOFFSETTO:+0100
TZNAME:CET
END:STANDARD
END:VTIMEZONE
END:VCALENDAR