BEGIN:VCALENDAR
VERSION:2.0
PRODID:-//wp-events-plugin.com//7.2.3.1//EN
TZID:Europe/Warsaw
X-WR-TIMEZONE:Europe/Warsaw
BEGIN:VEVENT
UID:47835@night4u.pl
DTSTART;TZID=Europe/Warsaw:20200403T220000
DTEND;TZID=Europe/Warsaw:20200404T060000
DTSTAMP:20200402T140649Z
URL:https://night4u.pl/wydarzenia/god-bless-dnb-vol-28/
SUMMARY:God Bless DnB vol. 28
DESCRIPTION:God Bless DnB vol. 28 - more info soon
ATTACH;FMTTYPE=image/jpeg:https://night4u.pl/wp-content/uploads/2020/02/16
 0782_image_86353233_3170526462977490_4509566453636136960_n.jpg
CATEGORIES:małopolskie
LOCATION:Święta Krowa\, Floriańska 16\, Kraków\, 31-021\, Poland
GEO:50.0631;19.93992
X-APPLE-STRUCTURED-LOCATION;VALUE=URI;X-ADDRESS=Floriańska 16\, Kraków\, 
 31-021\, Poland;X-APPLE-RADIUS=100;X-TITLE=Święta Krowa:geo:50.0631,19.9
 3992
END:VEVENT
BEGIN:VTIMEZONE
TZID:Europe/Warsaw
X-LIC-LOCATION:Europe/Warsaw
BEGIN:DAYLIGHT
DTSTART:20200329T030000
TZOFFSETFROM:+0100
TZOFFSETTO:+0200
TZNAME:CEST
END:DAYLIGHT
END:VTIMEZONE
END:VCALENDAR