BEGIN:VCALENDAR
VERSION:2.0
PRODID:-//wp-events-plugin.com//7.2.3.1//EN
TZID:Europe/Warsaw
X-WR-TIMEZONE:Europe/Warsaw
BEGIN:VEVENT
UID:11737@night4u.pl
DTSTART;TZID=Europe/Warsaw:20190405T220000
DTEND;TZID=Europe/Warsaw:20190406T050000
DTSTAMP:20190403T193715Z
URL:https://night4u.pl/wydarzenia/goflex-05-04-2k19/
SUMMARY:GoFlex / 05.04.2k19
DESCRIPTION:Halko po raz kolejny wracamy na deski Patio Club\, aby pokazać
  wam co to dobry melanż Już 5.04.2019 będziemy bawić się i śpiewać 
 do rana przy akompaniamencie waszych ulubionych kawałków z całego świa
 ta ❤️\n\nMuzyka\nNAJŚWIEŻSZY RAP\nTRAP_DUB\nBASSLINE \n\nNa main flo
 rze operują klasycznie ulubieńcy \n- Stuq Puq\n- Biernol\n\nZa Zdjęcia 
 odpowiada nasz ukochany Robię Rzeczy ?\n\nTAX\n10 pln do 24:00\n20 pln po
  24:00\nSelekcja 18+\n\nStudenciaki 10PLN \n(Pamiętajcie o ważnej legitc
 e)\n\nWięcej info w postach oraz na naszym instagramie @goflexman ?ℹ️
 \n\nwidzimy się soon ?
ATTACH;FMTTYPE=image/jpeg:https://night4u.pl/wp-content/uploads/2019/04/30
 163_image_53723681_2391819074439700_1998939000022237184_o.jpg
CATEGORIES:zachodniopomorskie
LOCATION:Patio Club\, Podgórna 63\, Szczecin\, 70-205\, Poland
GEO:53.42365;14.55395
X-APPLE-STRUCTURED-LOCATION;VALUE=URI;X-ADDRESS=Podgórna 63\, Szczecin\, 7
 0-205\, Poland;X-APPLE-RADIUS=100;X-TITLE=Patio Club:geo:53.42365,14.55395
END:VEVENT
BEGIN:VTIMEZONE
TZID:Europe/Warsaw
X-LIC-LOCATION:Europe/Warsaw
BEGIN:DAYLIGHT
DTSTART:20190331T030000
TZOFFSETFROM:+0100
TZOFFSETTO:+0200
TZNAME:CEST
END:DAYLIGHT
END:VTIMEZONE
END:VCALENDAR