BEGIN:VCALENDAR
VERSION:2.0
PRODID:-//wp-events-plugin.com//7.2.3.1//EN
TZID:Europe/Warsaw
X-WR-TIMEZONE:Europe/Warsaw
BEGIN:VEVENT
UID:46706@night4u.pl
DTSTART;TZID=Europe/Warsaw:20200307T220000
DTEND;TZID=Europe/Warsaw:20200308T060000
DTSTAMP:20200331T140600Z
URL:https://night4u.pl/wydarzenia/gogo-party/
SUMMARY:GOGO PARTY. Lista fb za free do godz.23:00
DESCRIPTION:U nas jak zawsze seksownie i gorrąco :-) \nTen wieczór uświe
 tni pokaz piękna męskiego ciała .\n Nasi tancerze rozgrzeją Was do cze
 rwoności .\n===================================================Zagrają :
 \ndj.Gabi\nDj.Piter \nWstep 15 zł \nLista fb za free do godz.23:00\nZapra
 szamy
ATTACH;FMTTYPE=image/jpeg:https://night4u.pl/wp-content/uploads/2020/02/15
 3495_image_83926321_10158639741052908_3140391150947401728_o.jpg
CATEGORIES:łódzkie
LOCATION:NARRAGANSET\, Gdańska 129\, Łódź\, 90-519\, Poland
GEO:51.759549;19.450388
X-APPLE-STRUCTURED-LOCATION;VALUE=URI;X-ADDRESS=Gdańska 129\, Łódź\, 90
 -519\, Poland;X-APPLE-RADIUS=100;X-TITLE=NARRAGANSET:geo:51.759549,19.4503
 88
END:VEVENT
BEGIN:VTIMEZONE
TZID:Europe/Warsaw
X-LIC-LOCATION:Europe/Warsaw
BEGIN:STANDARD
DTSTART:20191027T020000
TZOFFSETFROM:+0200
TZOFFSETTO:+0100
TZNAME:CET
END:STANDARD
END:VTIMEZONE
END:VCALENDAR