BEGIN:VCALENDAR
VERSION:2.0
PRODID:-//wp-events-plugin.com//7.2.3.1//EN
TZID:Europe/Warsaw
X-WR-TIMEZONE:Europe/Warsaw
BEGIN:VEVENT
UID:47150@night4u.pl
DTSTART;TZID=Europe/Warsaw:20200319T203000
DTEND;TZID=Europe/Warsaw:20200319T233000
DTSTAMP:20200314T040154Z
URL:https://night4u.pl/wydarzenia/golebski-maszynski-welyczko-play-depeche
 -mode-violator/
SUMMARY:Gołębski Maszyński Wełyczko play Depeche Mode “Violator”
DESCRIPTION:ENGLISH VERSION BELOW\n\nVertigo Presents: Paweł Gołębski &a
 mp\; Friends play Depeche Mode “Violator” (30 Years) \nZapraszamy na t
 en wyjątkowy rocznicowy koncert\, podczas którego zostaną wykonane utwo
 ry Depeche Mode z płyty Violator. Tego dnia wypada 30 rocznica wydania te
 go wyjątkowego albumu. Obok wokalisty zespół wystąpi w składzie: Wald
 emar Maszyński - instrumenty klawiszowe\, Marcin Wełyczko - gitara. \nPo
  koncercie zapraszamy na Jam Session. \n\nZachęcamy do rezerwacji miejsc 
 w klubie: emenago.com/i/vertigojazz\n\n- - -\n\nVertigo Presents: Paweł G
 ołębski &amp\; Friends play Depeche Mode “Violator” (30 Years) \n\nW
 e invite you to this unique anniversary concert\, during which Depeche Mod
 e songs from Violator will be performed. On this day is the 30th anniversa
 ry of the release of this unique album.\n\nWaldemar Maszyński - keyboards
 \, \nMarcin Wełyczko - guitar.\n\nThere will be jam session afterwards.\n
 \nBe sure to make a reservation by visiting: emenago.com/i/vertigojazz
ATTACH;FMTTYPE=image/jpeg:https://night4u.pl/wp-content/uploads/2020/02/15
 7132_image_84414916_2499646573624593_406980698558169088_o.jpg
CATEGORIES:dolnośląskie
LOCATION:Vertigo Jazz Club & Restaurant\, Oławska 13\, Wroclaw\, 53-125\, 
 Poland
GEO:51.10835;17.03537
X-APPLE-STRUCTURED-LOCATION;VALUE=URI;X-ADDRESS=Oławska 13\, Wroclaw\, 53-
 125\, Poland;X-APPLE-RADIUS=100;X-TITLE=Vertigo Jazz Club & Restaurant:geo
 :51.10835,17.03537
END:VEVENT
BEGIN:VTIMEZONE
TZID:Europe/Warsaw
X-LIC-LOCATION:Europe/Warsaw
BEGIN:STANDARD
DTSTART:20191027T020000
TZOFFSETFROM:+0200
TZOFFSETTO:+0100
TZNAME:CET
END:STANDARD
END:VTIMEZONE
END:VCALENDAR