BEGIN:VCALENDAR
VERSION:2.0
PRODID:-//wp-events-plugin.com//7.2.3.1//EN
TZID:Europe/Warsaw
X-WR-TIMEZONE:Europe/Warsaw
BEGIN:VEVENT
UID:3437@night4u.pl
DTSTART;TZID=Europe/Warsaw:20190212T183000
DTEND;TZID=Europe/Warsaw:20190212T223000
DTSTAMP:20190414T211530Z
URL:https://night4u.pl/wydarzenia/good-charlotte-12-02-2019-warszawa-stodo
 la/
SUMMARY:Good Charlotte: 12.02.2019 Warszawa\, Stodoła
DESCRIPTION:Agencja Go Ahead zaprasza na koncert Good Charlotte! Wyczekiwan
 a w Polsce grupa zagra 12 lutego 2019 w warszawskiej Stodole!\n\nFanom pop
 -punku Good Charlotte nie trzeba przedstawiać. Trzykrotna platyna w USA d
 la albumu „The Young and the Hopeless”\, ponad 11 milionów sprzedanyc
 h płyt i debiut w pierwszej trójce notowania Billboard. To wszystko uczy
 niło z Good Charlotte gwiazdy światowego formatu\, a wszystko zaczęło 
 się w małej miejscowości Waldorf w stanie Maryland. Tam bliźniacy Benj
 i i Joel\, zafascynowani dokonaniami The Cure czy The Smiths postanowili b
 ez środków finansowych i znajomości w branży założyć zespół. Rozs
 zerzając skład do pięciu osób\, nagrali pierwsze demo i rozesłali je 
 do wytwórni fonograficznych\, a pierwszy\, samodzielnie zorganizowany kon
 cert zagrali dla dwudziestu kilku osób. Zdobywając stopniowo lokalną po
 pularność\, zainteresowali sobą managera grupy Lit\, który zaprosił i
 ch do roli supportu. W 2000 roku Good Charlotte podpisali pierwszy kontrak
 t z legendarną wytwórnią Epic Records i w tym samym roku ukazał się d
 ebiutancki\, studyjny album grupy. Zespół przebił się do stacji radiow
 ych\, został zaproszony do trasy Vans Warp Tour\, zwrócił na siebie uwa
 gę najważniejszej wtedy muzycznej telewizji – MTV i wyruszył w pierws
 zą trasę poza granicami USA. Drugi album i singiel „The Anthem” to n
 ajpopularniejsze do tej pory muzyczne dokonania grupy\, na tym etapie bowi
 em zespół zyskał już miano gwiazd\, a kolejne krążki tylko umacniał
 y ich pozycję w muzycznym świecie.\n\n\n\nCzłonkowie grupy\, oprócz tw
 orzenia muzyki zajmują się także działalnością aktywistyczną\, prom
 ując wegetarianizm i biorąc udział w kampaniach związanych z AIDS.  \n
 \nOstatni album Good Charlotte („Youth Authority”) pojawił się w 201
 6 roku. Pojawiły się jednak doniesienia o podpisaniu kontraktu z grupą 
 BMG\, co zaskutkować ma pojawieniem się nowego\, siódmego w dorobku gru
 py studyjnego albumu jeszcze w tym roku!\n\nPrzypominamy\, że kupując bi
 lety od osób umieszczających oferty odsprzedaży na Facebooku możecie P
 aństwo zostać oszukani – ryzykujecie w ten sposób kupno fałszywych w
 ejściówek\, które nie umożliwią wejścia na koncert. Prosimy o kupowa
 nie biletów wyłącznie w autoryzowanych punktach sprzedaży! Autoryzowan
 ymi punktami sprzedaży nie są m.in. Viagogo\, Ticketswap\, Allegro\, OLX
 . \n\nData: 2019-02-12 (wtorek)\nMiasto: Warszawa\nMiejsce: Stodoła\nAdre
 s: ul. Batorego 10\nGodziny: wejście - 18:30\, start koncertu - 20:00\nCe
 ny biletów: miejsca stojące: 129 zł (przedsprzedaż) / 150 zł (w dniu 
 koncertu)\; miejsca siedzące: 150 zł (przedsprzedaż) / 160 zł (w dniu 
 koncertu)\nMiejsca zakupu: www.go-ahead.pl\, www.biletomat.pl\, www.ebilet
 .pl\, www.ticketmaster.pl\, www.empikbilety.pl oraz sklepy sieci Empik\, M
 edia Markt\, Saturn\, Klub Stodoła oraz www.stodola.pl
ATTACH;FMTTYPE=image/jpeg:https://night4u.pl/wp-content/uploads/2019/01/11
 019_image_36662225_10160675590160486_4876341323386322944_o.jpg
CATEGORIES:mazowieckie
LOCATION:klub Stodoła\, \, 
X-APPLE-STRUCTURED-LOCATION;VALUE=URI;X-ADDRESS=\, ;X-APPLE-RADIUS=100;X-TI
 TLE=klub Stodoła:geo:0,0
END:VEVENT
BEGIN:VTIMEZONE
TZID:Europe/Warsaw
X-LIC-LOCATION:Europe/Warsaw
BEGIN:STANDARD
DTSTART:20181028T020000
TZOFFSETFROM:+0200
TZOFFSETTO:+0100
TZNAME:CET
END:STANDARD
END:VTIMEZONE
END:VCALENDAR