BEGIN:VCALENDAR
VERSION:2.0
PRODID:-//wp-events-plugin.com//7.2.3.1//EN
TZID:Europe/Warsaw
X-WR-TIMEZONE:Europe/Warsaw
BEGIN:VEVENT
UID:32806@night4u.pl
DTSTART;TZID=Europe/Warsaw:20191019T210000
DTEND;TZID=Europe/Warsaw:20191020T003000
DTSTAMP:20200401T080715Z
URL:https://night4u.pl/wydarzenia/good-vibe-w-soul-train-klubokawiarnia-19
 -10/
SUMMARY:Good Vibe w Soul Train Klubokawiarnia! 19.10
DESCRIPTION:Muzyka na żywo to właśnie to\, co kochamy najbardziej\, wię
 c jest nam tym bardziej miło zaprosić Was na kolejny koncert w paździer
 niku :) Tym razem na naszej skromnej scenie będziemy gościć Good Vibe! 
 Chyba nazwa mówi sama za siebie\, prawda? \n\nGood Vibe: Karolina Biernac
 ka z zespołem w akcji - czyli gramy fajne piosenki\, bujamy całym świat
 em i bawimy się brzmieniami! Koncert poświęcony temu\, co nam w sercu g
 ra – dobry vibe! 🔥 Troche soulu\, trochę popu i trochę funky\, a do
  tego dodamy coś stricte od siebie! ❤\n\nZespół w składzie:\nKarolin
 a Biernacka - wokal \nWojciech Konopko - instrumenty klawiszowe\nRafał Kr
 zywosz - gitara basowa\nMarcin Urszulak - perkusja\n\n19.10 sobota\n21:00\
 nwstęp free!\n\nWe got Soul!
ATTACH;FMTTYPE=image/jpeg:https://night4u.pl/wp-content/uploads/2019/10/80
 165_image_72204056_3069428123197904_1861485241797967872_o.jpg
CATEGORIES:dolnośląskie
LOCATION:Soul Train Klubokawiarnia\, ul. Bogusławskiego 27\, Wroclaw\, 50-
 023\, Poland
GEO:51.10084;17.026
X-APPLE-STRUCTURED-LOCATION;VALUE=URI;X-ADDRESS=ul. Bogusławskiego 27\, Wr
 oclaw\, 50-023\, Poland;X-APPLE-RADIUS=100;X-TITLE=Soul Train Klubokawiarn
 ia:geo:51.10084,17.026
END:VEVENT
BEGIN:VTIMEZONE
TZID:Europe/Warsaw
X-LIC-LOCATION:Europe/Warsaw
BEGIN:DAYLIGHT
DTSTART:20190331T030000
TZOFFSETFROM:+0100
TZOFFSETTO:+0200
TZNAME:CEST
END:DAYLIGHT
END:VTIMEZONE
END:VCALENDAR