BEGIN:VCALENDAR
VERSION:2.0
PRODID:-//wp-events-plugin.com//7.2.3.1//EN
TZID:Europe/Warsaw
X-WR-TIMEZONE:Europe/Warsaw
BEGIN:VEVENT
UID:11696@night4u.pl
DTSTART;TZID=Europe/Warsaw:20190413T210000
DTEND;TZID=Europe/Warsaw:20190414T043000
DTSTAMP:20190403T193331Z
URL:https://night4u.pl/wydarzenia/goraczka-sobotniej-nocy-lista-fb-free-13
 -04/
SUMMARY:Gorączka Sobotniej Nocy! // Lista FB Free! // 13.04
DESCRIPTION:Sobota trzynastego to nie piątek 13\, nic złego Was nie spotk
 a\, a wręcz przeciwnie - mamy dla Was bardzo dużo dobra!\nZ głośników
  poleci dużo muzyki z lat 70 i 80 wymieszana z najróżniejszymi gatunkam
 i\, a do tego pyszne zimne napoje wyskokowe z naszego baru oraz nasze wspa
 niałe patio - to dobry pomysł na gorącą sobotę. Do zobaczenia na Brow
 arnej 6!\n\nNRD KLUB\nul. Browarna 6\nToruń\n\n13.04.2019 (sobota)\nStart
 : 21:00\n\nWjazd:\nLista FB FREE*\nPozostali 10 zł\n\nZagra dla Was Stosu
 nkowodobry Waca!\n\n********************************\nPROMO DO 23 NA SETY 
 !:\n0\,5L ŻOŁĄDKOWA DE LUXE + 1L SOFTU = 60 PLN\n0\,5L ŻOŁĄDKOWA DE 
 LUXE + 4 RED BULLE = 80 PLN\nBUSHMILLS 0\,7 + 1 L SOFTU = 120 PLN\n\n\n*Li
 stę klasycznie zamykamy w dniu imprezy o 17. Ważna jest do 23!\n** Wstę
 p dla osób pełnoletnich. Obowiązuje selekcja i regulamin klubu.\n\nWidz
 imy się na Browarnej 6!
ATTACH;FMTTYPE=image/jpeg:https://night4u.pl/wp-content/uploads/2019/04/30
 066_image_56496314_2046862588695104_2350178620875472896_o.jpg
CATEGORIES:kujawsko-pomorskie
LOCATION:NRD Klub\, Browarna 6\, Torun\, 87-100\, Poland
GEO:53.011128;18.612081
X-APPLE-STRUCTURED-LOCATION;VALUE=URI;X-ADDRESS=Browarna 6\, Torun\, 87-100
 \, Poland;X-APPLE-RADIUS=100;X-TITLE=NRD Klub:geo:53.011128,18.612081
END:VEVENT
BEGIN:VTIMEZONE
TZID:Europe/Warsaw
X-LIC-LOCATION:Europe/Warsaw
BEGIN:DAYLIGHT
DTSTART:20190331T030000
TZOFFSETFROM:+0100
TZOFFSETTO:+0200
TZNAME:CEST
END:DAYLIGHT
END:VTIMEZONE
END:VCALENDAR