BEGIN:VCALENDAR
VERSION:2.0
PRODID:-//wp-events-plugin.com//7.2.3.1//EN
TZID:Europe/Warsaw
X-WR-TIMEZONE:Europe/Warsaw
BEGIN:VEVENT
UID:32313@night4u.pl
DTSTART;TZID=Europe/Warsaw:20191019T210000
DTEND;TZID=Europe/Warsaw:20191019T210000
DTSTAMP:20191019T191454Z
URL:https://night4u.pl/wydarzenia/goraczka-sobotniej-nocy-welcome-shoty-2/
SUMMARY:Gorączka Sobotniej Nocy /welcome shoty
DESCRIPTION:Stawiacie na jakość?\nChcecie pobawić się przy DOBREJ tanec
 znej muzyce?\n\nNa dj-ce Dj Łucek i uwierzcie nam gra mega imprezy👌\nG
 ra wszystko i dla Wszystkich 💃🕺💃🕺💃👍\n\nKomfort\, poczuci
 e swobody\, taneczna muzyka \,klasyki i najnowsze przeboje i przede wszyst
 kim doborowe towarzystwo. Te słowa doskonale opisują GORĄCZKĘ SOBOTNIE
 J NOCY  w Onyx Club !\n\n\n✓ Promocje w barze: \n WELCOME SHOTY \n\n\nDo
  każdej butelki Wódki/ Whiskey - dzbanek Coli/Sprita GRATIS!\n\n\n✓ Ws
 tęp: \nKarty VIP wstęp za darmo!\nwstęp 10 pln\n\n❗️❗️❗️UWA
 GA PRZEDSPRZEDAŻ BILETÓW U PROMOTOREK ❗️❗️❗️\n\nOlga 📞531
 072171\nWiktoria 📞577839509\nIga 📞784667455\nOliwia 📞730254004 \n
 \n\n\n✓ Rezerwacje: \nKażda rezerwacja stolika - 60 PLN w tym 0\,5l wó
 dki \n\n\nWszystkie rezerwacje trzymamy do godz. 22:00 \n\n\n17 774 55 40 
 / 600 990 757\n\nSelekcja 18+ \n\nZapraszamy :)
ATTACH;FMTTYPE=image/jpeg:https://night4u.pl/wp-content/uploads/2019/10/77
 426_image_72720377_1689096751227883_6952575179092393984_n.jpg
CATEGORIES:podkarpackie
LOCATION:Onyx Club Mielec\, Wojska Polskiego 3\, Mielec\, 39-300\, Poland
GEO:50.308169;21.45479
X-APPLE-STRUCTURED-LOCATION;VALUE=URI;X-ADDRESS=Wojska Polskiego 3\, Mielec
 \, 39-300\, Poland;X-APPLE-RADIUS=100;X-TITLE=Onyx Club Mielec:geo:50.3081
 69,21.45479
END:VEVENT
BEGIN:VTIMEZONE
TZID:Europe/Warsaw
X-LIC-LOCATION:Europe/Warsaw
BEGIN:DAYLIGHT
DTSTART:20190331T030000
TZOFFSETFROM:+0100
TZOFFSETTO:+0200
TZNAME:CEST
END:DAYLIGHT
END:VTIMEZONE
END:VCALENDAR