BEGIN:VCALENDAR
VERSION:2.0
PRODID:-//wp-events-plugin.com//7.2.3.1//EN
TZID:Europe/Warsaw
X-WR-TIMEZONE:Europe/Warsaw
BEGIN:VEVENT
UID:48774@night4u.pl
DTSTART;TZID=Europe/Warsaw:20200229T210000
DTEND;TZID=Europe/Warsaw:20200229T210000
DTSTAMP:20200228T231235Z
URL:https://night4u.pl/wydarzenia/goraczka-zamkowej-nocy-dj-mirek-pirog/
SUMMARY:Gorączka zamkowej nocy! Dj Mirek Piróg
DESCRIPTION:Sobotnie szaleństwo powraca! \nGorączka Zamkowej nocy\, impre
 za której nie można ominąć. \nZa konsolą doświadczony DJ Mirek Piró
 g. Nieśmiertelne przeboje przeplatane z topowymi perełkami. \nNiech opan
 uje Was gorączka tej nocy. \nW Zamkowej każdy może zostać królem park
 ietu!\n\nZapraszamy od 21!\n\nRezerwacje: 41 344 72 26\n\nPamiętajcie\, 
 że możecie rownież zrobić rezerwacje on-line. Wystarczy pod naszym zdj
 ęciem kliknąć przycisk „zarezerwuj teraz”.\nDo zobaczenia!🙂
ATTACH;FMTTYPE=image/jpeg:https://night4u.pl/wp-content/uploads/2020/02/16
 6776_image_86810596_3325555397459191_8903599854672936960_n.jpg
CATEGORIES:świętokrzyskie
LOCATION:Klub Zamkowa\, Zamkowa 2\, Kielce\, 25-009\, Poland
GEO:50.868771;20.625644
X-APPLE-STRUCTURED-LOCATION;VALUE=URI;X-ADDRESS=Zamkowa 2\, Kielce\, 25-009
 \, Poland;X-APPLE-RADIUS=100;X-TITLE=Klub Zamkowa:geo:50.868771,20.625644
END:VEVENT
BEGIN:VTIMEZONE
TZID:Europe/Warsaw
X-LIC-LOCATION:Europe/Warsaw
BEGIN:STANDARD
DTSTART:20191027T020000
TZOFFSETFROM:+0200
TZOFFSETTO:+0100
TZNAME:CET
END:STANDARD
END:VTIMEZONE
END:VCALENDAR