BEGIN:VCALENDAR
VERSION:2.0
PRODID:-//wp-events-plugin.com//7.2.3.1//EN
TZID:Europe/Warsaw
X-WR-TIMEZONE:Europe/Warsaw
BEGIN:VEVENT
UID:7195@night4u.pl
DTSTART;TZID=Europe/Warsaw:20190223T210000
DTEND;TZID=Europe/Warsaw:20190224T050000
DTSTAMP:20190213T180913Z
URL:https://night4u.pl/wydarzenia/goralskie-wesele-prawdopodobnie-najlepsz
 a-impreza-w-okolicy/
SUMMARY:Góralskie Wesele\, prawdopodobnie najlepsza impreza w okolicy!
DESCRIPTION:Już niedługo ruszamy z nowym cyklem imprez czyli WESELA TEMAT
 YCZNE !!! \n\nPodczas imprezy góralskie akcenty: Para młoda\, tańce\, z
 abawy i muzyka prosto z gór! ?  Więcej informacji wypatrujcie na naszym 
 FB!!! :) \n\n? Staropolskim obyczajem Para Młoda zaprasza na:\n\n⭐DYSKO
 TEKĘ WESELNĄ w SIERAKOWICACH⭐\n\n??? Na wejściu Młodzi przywitają W
 as chlebem\, solą i kieliszkiem szampana!\n\nPodczas imprezy możecie si
 ę spodziewać zabawy jak na prawdziwym weselu! Super muzyka Kaczuszki\, P
 ociągi i inne Wężyki sprawią\, że nie będziecie chcieli schodzić z 
 parkietu!\n\n❤️ Nie zabraknie tradycyjnych OCZEPIN o godzinie 2.00 ❤
 ️\nBędzie fotobudka\, a na zakąskę do wódeczki znajdziecie coś pysz
 nego na Wiejskim Stoliku!\n\n⭐️⭐ Imprezę poprowadzi: DJ TEENS (MA U
 RODZINY TEGO DNIA) ⭐️⭐\n\n♥♥♥♥♥♥♥♥♥♥♥♥♥♥
 ♥♥♥♥♥♥♥♥♥♥\nGRAMY od 21.00 do ostatniego gościa!\n\n
 ▬▬▬▬▬▬▬▬▬▬▬▬▬▬▬▬▬▬▬▬▬▬▬▬
 ▬▬▬\n⭐ SUPER OKAZJA! ⭐\n? Jesteś z SIERAKOWIC? \n? Możesz zam
 ówić darmową limuzynę która podwiezie Cię do klubu! \n? Zamówienia 
 na limuzynę pod numerem +48 664 462 129\n? Grupy MIN 4 osobowe MAX 8 osob
 owe\n? Limuzyna jest za darmo jedynym warunkiem jest zakup biletu do klubu
  u kierowcy. \n▬▬▬▬▬▬▬▬▬▬▬▬▬▬▬▬▬▬▬
 ▬▬▬▬▬▬▬▬\n\nCENY BILETÓW:\n[18+] - za okazaniem dokumentu
  tożsamości\n21.00 - 22.00 - Wstęp 15 zł\nPo 22.00 - Wstęp 20 zł\n\n
 Tylko u nas Wesela bez koperty i krawatów!\n\nREZERWACJE STOLIKÓW: +48 6
 64 462 129\n\nIdealne miejsce na Wieczór Panieński & Kawalerski\, Roczni
 cę Ślubu\, Urodziny\, a nawet Wesele!\n\n▬▬▬▬▬▬▬▬▬▬
 ▬▬▬▬▬▬▬▬▬▬▬▬▬▬▬▬▬\nNa imprezie obowiązu
 je wygodny nieformalny strój taki jak dla Ciebie jest wygodny - jednak be
 z elementów sportowych m.in dresów\, czapek itp. \n\nADRES: LĘBORSKA 4A
 \, SIERAKOWICE \nWejście od tyłu Biedronki\n▬▬▬▬▬▬▬▬▬
 ▬▬▬▬▬▬▬▬▬▬▬▬▬▬▬▬▬▬
ATTACH;FMTTYPE=image/jpeg:https://night4u.pl/wp-content/uploads/2019/02/20
 708_image_51344475_782403818801338_89144726288072704_o.jpg
CATEGORIES:pomorskie
LOCATION:Dyskoteka Wesele Sierakowice\, lęborska 4a\, Sierakowice\, 83-340
 \, Poland
GEO:54.34629;17.89227
X-APPLE-STRUCTURED-LOCATION;VALUE=URI;X-ADDRESS=lęborska 4a\, Sierakowice\
 , 83-340\, Poland;X-APPLE-RADIUS=100;X-TITLE=Dyskoteka Wesele Sierakowice:
 geo:54.34629,17.89227
END:VEVENT
BEGIN:VTIMEZONE
TZID:Europe/Warsaw
X-LIC-LOCATION:Europe/Warsaw
BEGIN:STANDARD
DTSTART:20181028T020000
TZOFFSETFROM:+0200
TZOFFSETTO:+0100
TZNAME:CET
END:STANDARD
END:VTIMEZONE
END:VCALENDAR