BEGIN:VCALENDAR
VERSION:2.0
PRODID:-//wp-events-plugin.com//7.2.3.1//EN
TZID:Europe/Warsaw
X-WR-TIMEZONE:Europe/Warsaw
BEGIN:VEVENT
UID:48962@night4u.pl
DTSTART;TZID=Europe/Warsaw:20201103T190000
DTEND;TZID=Europe/Warsaw:20201103T210000
DTSTAMP:20200504T091801Z
URL:https://night4u.pl/wydarzenia/gorzow-wielkopolski-antoni-syrek-dabrows
 ki-kronika-filmowa/
SUMMARY:Gorzów Wielkopolski / Antoni Syrek-Dąbrowski / Kronika Filmowa
DESCRIPTION:Siema! \n\n\nNowy program: "Kronika Filmowa"\n\nAntoni Syrek-D
 ąbrowski - komik\, improwizator\, scenarzysta i aktor. Działa na scenie 
 komediowej od 2010 roku. Zaczynał jako stand-upper w takich programach ja
 k: HBO Stand-up Comedy Club\, obu sezonach Comedy Central Prezentuje: Stan
 d-up!\, Tylko dla dorosłych w TVP2 oraz Roaście Kuby Wojewódzkiego w TV
 N. Udało mu się również zakwalifikować do anglojęzycznego programu S
 tand-up Express - kolaboracji komików z całej Europy Wschodniej. Poza st
 and-upem zajmuje się również improwizacją komediową\, której uczył 
 się od mistrzów tej formy w teatrze "IO" w Chicago. Improwizuje od ponad
  czterech lat w teatrze "Hofesinka"\, który co tydzień można oglądać 
 na deskach Resortu w Warszawie.\n\n+ Support: Łukasz Kowalski z programem
  "Bakłażan"\n\nBilety: 35zł\,\n45zł w dniu wydarzenia\n\n\nWydarzenie 
 dla dorosłych!!!\n\n* Brak zgody na nagrywanie audio/video.\n* Osoby\, kt
 óre będą przeszkadzać podczas wydarzenia zostaną wyproszone. Bez zwro
 tu pieniędzy za bilet.
ATTACH;FMTTYPE=image/jpeg:https://night4u.pl/wp-content/uploads/2020/02/16
 7758_image_87531840_3068197146564773_383271985163010048_o.jpg
CATEGORIES:lubuskie
LOCATION:C-60\, Zaułek 1\, Gorzów Wielkopolski\, 66-400\, Poland
GEO:52.729476;15.237369
X-APPLE-STRUCTURED-LOCATION;VALUE=URI;X-ADDRESS=Zaułek 1\, Gorzów Wielkop
 olski\, 66-400\, Poland;X-APPLE-RADIUS=100;X-TITLE=C-60:geo:52.729476,15.2
 37369
END:VEVENT
BEGIN:VTIMEZONE
TZID:Europe/Warsaw
X-LIC-LOCATION:Europe/Warsaw
BEGIN:STANDARD
DTSTART:20201025T020000
TZOFFSETFROM:+0200
TZOFFSETTO:+0100
TZNAME:CET
END:STANDARD
END:VTIMEZONE
END:VCALENDAR