BEGIN:VCALENDAR
VERSION:2.0
PRODID:-//wp-events-plugin.com//7.2.3.1//EN
TZID:Europe/Warsaw
X-WR-TIMEZONE:Europe/Warsaw
BEGIN:VEVENT
UID:47075@night4u.pl
DTSTART;TZID=Europe/Warsaw:20200914T200000
DTEND;TZID=Europe/Warsaw:20200914T220000
DTSTAMP:20200504T090549Z
URL:https://night4u.pl/wydarzenia/gorzow-wlkp-grzegorz-dolniak-stand-up-te
 rmin-przydatnosci/
SUMMARY:Gorzów Wlkp.! Grzegorz Dolniak stand-up - Termin przydatności
DESCRIPTION:Termin przydatności to najnowszy program stand-up Grzegorza Do
 lniaka\, w którym z charakterystyczną dla siebie ekspresją opowie o ży
 ciu człowieka w wieku chrystusowym\, który zdał sobie sprawę\, że pro
 ces starzenia nie zaczyna się w wieku lat 50\, 60 czy 70\, a już po 30-t
 ce. Termin przydatności to godzina pełna humoru obserwacyjnego okraszone
 go brawurowymi kreacjami aktorskimi\, odrobiną improwizacji i tematami bl
 iskimi każdemu z nas. Przed Grzegorzem wystąpi 20-minutowy support. Info
 rmacje wkrótce.\n\n*wydarzenie dla widzów dorosłych\n*nagrywanie i udos
 tępnianie występu oraz jego fragmentów jest zabronione\n*osoby przeszka
 dzające w występie zostaną wyproszone bez możliwości zwrotu pieniędz
 y za bilet
ATTACH;FMTTYPE=image/jpeg:https://night4u.pl/wp-content/uploads/2020/04/15
 6070_image_93392858_2704933993059802_6683135173191532544_o.jpg
CATEGORIES:lubuskie
LOCATION:C-60\, Zaułek 1\, Gorzów Wielkopolski\, 66-400\, Poland
GEO:52.729476;15.237369
X-APPLE-STRUCTURED-LOCATION;VALUE=URI;X-ADDRESS=Zaułek 1\, Gorzów Wielkop
 olski\, 66-400\, Poland;X-APPLE-RADIUS=100;X-TITLE=C-60:geo:52.729476,15.2
 37369
END:VEVENT
BEGIN:VTIMEZONE
TZID:Europe/Warsaw
X-LIC-LOCATION:Europe/Warsaw
BEGIN:DAYLIGHT
DTSTART:20200329T030000
TZOFFSETFROM:+0100
TZOFFSETTO:+0200
TZNAME:CEST
END:DAYLIGHT
END:VTIMEZONE
END:VCALENDAR