BEGIN:VCALENDAR
VERSION:2.0
PRODID:-//wp-events-plugin.com//7.2.3.1//EN
TZID:Europe/Warsaw
X-WR-TIMEZONE:Europe/Warsaw
BEGIN:VEVENT
UID:12918@night4u.pl
DTSTART;TZID=Europe/Warsaw:20190518T220000
DTEND;TZID=Europe/Warsaw:20190519T060000
DTSTAMP:20190430T142615Z
URL:https://night4u.pl/wydarzenia/gosia-andrzejewicz-koncert/
SUMMARY:GOSIA Andrzejewicz Koncert
DESCRIPTION:GOSIA ANRZEJEWICZ – wokalistka popowa\, kompozytorka\, autork
 a tekstów. Ma na swoim koncie\, 5 albumów\, prestiżowe nagrody muzyczne
 \, pierwsze miejsca list przebojów (RMF FM\, Radio Zet\, MTV\, VIVA)\, z
 łote płyty\, oraz dużą rzeszę fanów (ponad 155 tys. na Facebook’u)
 . W swoim dorobku artystycznym ma również międzynarodowe projekty takie
  jak: utwór „Lover Boy” nagrany w duecie z Dr Albanem\, a wyprodukowa
 ny przez Andersa Nyman’a (twórcę przeboju Infinity projektu Guru Josh 
 Project)\, utwór „2Gether” nagrany wspólnie z arabskim wokalistą Do
 uzi’m oraz piosenkę „I’m not afraid”\, którą to zakwalifikował
 a się do finałowej 9 artystów ubiegających się o reprezentowanie Szwa
 jcarii na Eurowizji.\n===================================================S
 tart godz: 22:00 .\nKoncert ok 1:00\nWstęp 20zł / pula pierwszych 100 bi
 letów 10zł \n===================================================\nDarmow
 e wejsciówki mozna wygrać udostępniając na swoim profilu z opcją" pub
 liczne" wszystkie posty zwiazane z koncertem Gosi !
ATTACH;FMTTYPE=image/jpeg:https://night4u.pl/wp-content/uploads/2019/04/32
 585_image_55942594_10157799088117908_7528395779405250560_o.jpg
CATEGORIES:łódzkie
LOCATION:NARRAGANSET\, Gdańska 129\, Łódź\, 90-519\, Poland
GEO:51.759549;19.450388
X-APPLE-STRUCTURED-LOCATION;VALUE=URI;X-ADDRESS=Gdańska 129\, Łódź\, 90
 -519\, Poland;X-APPLE-RADIUS=100;X-TITLE=NARRAGANSET:geo:51.759549,19.4503
 88
END:VEVENT
BEGIN:VTIMEZONE
TZID:Europe/Warsaw
X-LIC-LOCATION:Europe/Warsaw
BEGIN:DAYLIGHT
DTSTART:20190331T030000
TZOFFSETFROM:+0100
TZOFFSETTO:+0200
TZNAME:CEST
END:DAYLIGHT
END:VTIMEZONE
END:VCALENDAR