BEGIN:VCALENDAR
VERSION:2.0
PRODID:-//wp-events-plugin.com//7.2.3.1//EN
TZID:Europe/Warsaw
X-WR-TIMEZONE:Europe/Warsaw
BEGIN:VEVENT
UID:27440@night4u.pl
DTSTART;TZID=Europe/Warsaw:20190928T210000
DTEND;TZID=Europe/Warsaw:20190929T060000
DTSTAMP:20190914T105412Z
URL:https://night4u.pl/wydarzenia/gotham-city-%e2%9c%aa-sob-28-09/
SUMMARY:Gotham City ✪ Sob. 28.09
DESCRIPTION:W sobotę 28 września przeniesiecie się wraz z nami do miasta
 \, które nigdy nie śpi\, a jego ulice tętnią przyprawiającym o dreszc
 zyk emocji życiem. ?\nPrzekonacie się dlaczego postać Bruce’a Wayne
 ’a ? jest w tych okolicznościach niezastąpiona. \nImprezowe dni miasta
  zostały policzone. Nadciąga mrok a z nim nowa era ... Gotham City. ??\n
 \n? #NowaPomarańcza  - ZAPRASZAMY!\n--\nINFORMACJE\n? 28.09 - SOBOTA\n? S
 tart: 21:00\n? Selekcja: +18\n? Wstęp: \nPanie - 15zł\nPanowie - 20zł\n
 Panie do 22:00 - WSTĘP FREE\n? Katowice\, ul. Mickiewicza 4\, Galeria Ska
 rbek (Rynek)\n--\nRESTAURACJA STREET FOOD ? ?\nPrzez cały czas trwania im
 prezy czynna jest restauracja TACO LOCO STREET FOOD!\n--\nPROMOCJE\n? Odpr
 awimy Twoje urodziny!\nA także zorganizujemy:\n? Wieczór Panieński\n? W
 ieczór Kawalerski\nRezerwacje od wtorku do soboty od 13:00 do 21:00\n? 53
 6 901 907\n? mojaimpreza@pomaranczagroup.pl\n--\nREZERWACJA LOŻY\nRezerwa
 cje loży online: https://klubpomarancza.pl/katowice/rezerwacjalozy/\n--\n
 MUZYKA\nSALA KLUBOWA ▶ RO-BEE\, ADO\nSALA DANCE ▶  PAUL SECCO\nSALA CU
 BANA ▶ GM\n--\nINSTAGRAM\nwww.instagram.com/pomarancza_katowice
ATTACH;FMTTYPE=image/jpeg:https://night4u.pl/wp-content/uploads/2019/09/63
 878_image_69833893_2702752226410448_1840569953657290752_o.jpg
CATEGORIES:śląskie
LOCATION:Klub Pomarańcza Katowice\, Mickiewicza 4\, Katowice\, 40-092\, Po
 land
GEO:50.25976;19.02082
X-APPLE-STRUCTURED-LOCATION;VALUE=URI;X-ADDRESS=Mickiewicza 4\, Katowice\, 
 40-092\, Poland;X-APPLE-RADIUS=100;X-TITLE=Klub Pomarańcza Katowice:geo:5
 0.25976,19.02082
END:VEVENT
BEGIN:VTIMEZONE
TZID:Europe/Warsaw
X-LIC-LOCATION:Europe/Warsaw
BEGIN:DAYLIGHT
DTSTART:20190331T030000
TZOFFSETFROM:+0100
TZOFFSETTO:+0200
TZNAME:CEST
END:DAYLIGHT
END:VTIMEZONE
END:VCALENDAR