BEGIN:VCALENDAR
VERSION:2.0
PRODID:-//wp-events-plugin.com//7.2.3.1//EN
TZID:Europe/Warsaw
X-WR-TIMEZONE:Europe/Warsaw
BEGIN:VEVENT
UID:2022@night4u.pl
DTSTART;TZID=Europe/Warsaw:20190105T223000
DTEND;TZID=Europe/Warsaw:20190106T050000
DTSTAMP:20181231T132904Z
URL:https://night4u.pl/wydarzenia/gra-o-tron-lista-fb/
SUMMARY:Gra o Tron! | Lista FB*
DESCRIPTION:Trzech Króli\, Czterech DJów\, Jeden Tron.\nKto rozpali parki
 et? Kto dopuści się podstępu? W walce o niebiański tron wszystkie hity
  są dozwolone! \n\nPojedynkować się będą: \n? I Say Mikey\n? Kuvau\n?
  Alex Köffer\n? Dj Rizzle\n\nPiekło nad Niebem:\n? Yorüba\n\nLista FB f
 ree do 23:30\nPo 23:30 - 20 PLN
ATTACH;FMTTYPE=image/jpeg:https://night4u.pl/wp-content/uploads/2018/12/80
 56_image_48954529_2218632355068265_1799962803105169408_o.jpg
CATEGORIES:mazowieckie
LOCATION:NIEBO\, ul. Nowy Świat 21\, Warsaw\, 00-029\, Poland
GEO:52.23238;21.018267
X-APPLE-STRUCTURED-LOCATION;VALUE=URI;X-ADDRESS=ul. Nowy Świat 21\, Warsaw
 \, 00-029\, Poland;X-APPLE-RADIUS=100;X-TITLE=NIEBO:geo:52.23238,21.018267
END:VEVENT
BEGIN:VTIMEZONE
TZID:Europe/Warsaw
X-LIC-LOCATION:Europe/Warsaw
BEGIN:STANDARD
DTSTART:20181028T020000
TZOFFSETFROM:+0200
TZOFFSETTO:+0100
TZNAME:CET
END:STANDARD
END:VTIMEZONE
END:VCALENDAR