BEGIN:VCALENDAR
VERSION:2.0
PRODID:-//wp-events-plugin.com//7.2.3.1//EN
TZID:Europe/Warsaw
X-WR-TIMEZONE:Europe/Warsaw
BEGIN:VEVENT
UID:11771@night4u.pl
DTSTART;TZID=Europe/Warsaw:20190404T180000
DTEND;TZID=Europe/Warsaw:20190404T180000
DTSTAMP:20190403T193907Z
URL:https://night4u.pl/wydarzenia/gram-z-sspb/
SUMMARY:Gram Z SSPB
DESCRIPTION:Pomysł na czwartkowy wieczór? ?\nProszę bardzo ?\nSamorząd 
 Studentów Politechniki Białostockiej zaprasza na wieczór planszówek ?\
 nIdealna okazja\, aby spędzić czas z przyjaciółmi ?\nSprawdź swoje mo
 żliwości w przeróżnych grach ?\nĆwicz spostrzegawczość\, ucz się k
 ombinować\, a przede wszystkim - BAW SIĘ!  ?\n\n#GramwGwincie  #Planszó
 wkizSSPB
ATTACH;FMTTYPE=image/jpeg:https://night4u.pl/wp-content/uploads/2019/04/30
 236_image_54514273_2039725176153193_7693364352258146304_n.jpg
CATEGORIES:podlaskie
LOCATION:Herkulesy klub\, Mickiewicza 2c\, Białystok\, 15-222\, Poland
GEO:53.129396;23.167055
X-APPLE-STRUCTURED-LOCATION;VALUE=URI;X-ADDRESS=Mickiewicza 2c\, Białystok
 \, 15-222\, Poland;X-APPLE-RADIUS=100;X-TITLE=Herkulesy klub:geo:53.129396
 ,23.167055
END:VEVENT
BEGIN:VTIMEZONE
TZID:Europe/Warsaw
X-LIC-LOCATION:Europe/Warsaw
BEGIN:DAYLIGHT
DTSTART:20190331T030000
TZOFFSETFROM:+0100
TZOFFSETTO:+0200
TZNAME:CEST
END:DAYLIGHT
END:VTIMEZONE
END:VCALENDAR