BEGIN:VCALENDAR
VERSION:2.0
PRODID:-//wp-events-plugin.com//7.2.3.1//EN
TZID:Europe/Warsaw
X-WR-TIMEZONE:Europe/Warsaw
BEGIN:VEVENT
UID:42293@night4u.pl
DTSTART;TZID=Europe/Warsaw:20200208T220000
DTEND;TZID=Europe/Warsaw:20200209T040000
DTSTAMP:20200208T053935Z
URL:https://night4u.pl/wydarzenia/grammy-krzysztof-plonka-8-02-2020/
SUMMARY:Grammy// Krzysztof Płonka DJ Libu i DJ Ristoff // 8.02.2020
DESCRIPTION:GRAMMY!\n\nZapraszamy Was na najbardziej muzyczny cykl imprez w
  Krakowie! Tym razem wystąpi dla Was Krzysztof Płonka!\n\nPowracamy z hu
 kiem!\n\nKrakowski muzyk\, wokalista (tenor)\, występujący na scenie od 
 16 roku życia\, inspirowany takimi artystami jak John Mayer\, Paolo Nutin
 i\, Chris Martin\, Kirk Franklin oraz wielu innych.\n\nDJ LIBU\nSwoją prz
 ygodę z muzyką rozpoczął w połowie 2013 roku. Świetnie odnajduje si
 ę w gatunkach R’n’B\, Reggaeton\, Moombahton\, Trap\, Twerk\, Future 
 House i Deep House. \n\nRISTOFF\n\nKrakowski DJ który rozpoczął swoją 
 muzyczną przygodę w 2005 roku. Rezydent Four Music Club oraz Choice Club
  z którym jest związany od samego początku jego istnienia. Nie bojąc s
 ię eksperymentów w swoich setach prezentuje muzykę z gatunków House\, 
 Tech-House\, R'N'B\, Moombahton\, Trap\, Twerk\, Electro-Swing.\n\nStart: 
 22:00\nWstęp: 18+ // 10 PLN / Lista FB: free\n\nRezerwacje: \nDominika: +
  48 505 725 060 / d.pisanko@choiceclub.pl \n\nKlub Choice zastrzega sobie 
 prawo do selekcji Gości.
ATTACH;FMTTYPE=image/jpeg:https://night4u.pl/wp-content/uploads/2020/01/13
 3175_image_81654244_1787110231422228_8816307436110479360_n.jpg
CATEGORIES:małopolskie
LOCATION:Choice Club\, Floriańska 15\, Kraków\, 31-019\, Poland
GEO:50.06271;19.93987
X-APPLE-STRUCTURED-LOCATION;VALUE=URI;X-ADDRESS=Floriańska 15\, Kraków\, 
 31-019\, Poland;X-APPLE-RADIUS=100;X-TITLE=Choice Club:geo:50.06271,19.939
 87
END:VEVENT
BEGIN:VTIMEZONE
TZID:Europe/Warsaw
X-LIC-LOCATION:Europe/Warsaw
BEGIN:STANDARD
DTSTART:20191027T020000
TZOFFSETFROM:+0200
TZOFFSETTO:+0100
TZNAME:CET
END:STANDARD
END:VTIMEZONE
END:VCALENDAR