BEGIN:VCALENDAR
VERSION:2.0
PRODID:-//wp-events-plugin.com//7.2.3.1//EN
TZID:Europe/Warsaw
X-WR-TIMEZONE:Europe/Warsaw
BEGIN:VEVENT
UID:46420@night4u.pl
DTSTART;TZID=Europe/Warsaw:20200229T190000
DTEND;TZID=Europe/Warsaw:20200229T210000
DTSTAMP:20200229T223008Z
URL:https://night4u.pl/wydarzenia/gramy-dla-mai-koncert-charytatywny-%e2%8
 0%a2-csk-lublin-29-02-2020/
SUMMARY:GRAMY DLA MAI Koncert Charytatywny • CSK Lublin 29.02.2020
DESCRIPTION:Pierwszy w Lublinie koncert charytatywny na rzecz Mai Kapłon "
 GRAMY DLA MAI"\, współorganizowany przez Centrum Spotkania Kultur.\n\n#r
 atujemyMajęKapłon #proszęolek\n\nDla Mai wystąpią:\n\nGOŚĆ SPECJALN
 Y !!!\nMaksymilian Łapiński – gwiazda programu The Voice of Poland\n\n
 Monika Kowalczyk - wokal\, gitara\nMartyna Sabak - wokal\nAngelika Majewsk
 a - wokal\nMikołaj Kołodziejczyk - gitara\, piano\nKuba Stasikowski - gi
 tara \nArek Borzęcki - bas\nWiktor Strzałkowski - perkusja\n\nProwadząc
 y: Adrian Dang Xuan\n\n\nMaja to 24 letnia niezwykle utalentowana dziewczy
 na\, która dała się poznać całej Polsce w programie The Voice of Pola
 nd. Urodziła się z zaawansowaną skoliozą i od tamtej chwili przeszła 
 18 operacji kręgosłupa. Ostatnią z operacji było wszczepienie metalowe
 go pręta\, który miał stabilizować kręgosłup i umożliwić jej norma
 lne funkcjonowanie. Niestety\, pręt pękł i stanowi poważne zagrożenie
  życia naciskając na narządy wewnętrzne – w tym płuca\, którym gro
 zi przebicie. Maja musi przez cały czas leżeć w łóżku\, nie może ch
 odzić ani robić tego\, co najbardziej kocha - śpiewać. W lutym miała 
 mieć premierę jej debiutancka płyta. Maję czeka skomplikowana i niesam
 owicie kosztowna operacja kręgosłupa w USA\, która daje szansę na urat
 owanie życia. Wciąż potrzebne są pieniądze\, dzięki którym operacja
  oraz późniejsza rehabilitacja będą mogły zostać sfinansowane. Pomó
 żmy Mai spełnić jej marzenia o powrocie na scenę!\n\n\nCena biletów: 
 25 zł \nZakupu biletów można dokonać poprzez:\n- wysłanie wiadomości
  na adres mailowy gramydlamai@gmail.com\n- wysłanie wiadomości przez str
 onę wydarzenia \n\n\nCałkowity dochód ze sprzedaży biletów zostanie p
 rzekazany na leczenie Mai Kapłon.\n\n\nWesprzyj Maję:\nhttps://www.siepo
 maga.pl/maja-kaplon
ATTACH;FMTTYPE=image/jpeg:https://night4u.pl/wp-content/uploads/2020/02/15
 2259_image_88175501_2023365421142540_3710803889218387968_o.jpg
CATEGORIES:lubelskie
LOCATION:Spotkania Kultur\, Plac Teatralny 1\, Lublin\, 20-029\, Poland
GEO:51.247033;22.54863
X-APPLE-STRUCTURED-LOCATION;VALUE=URI;X-ADDRESS=Plac Teatralny 1\, Lublin\,
  20-029\, Poland;X-APPLE-RADIUS=100;X-TITLE=Spotkania Kultur:geo:51.247033
 ,22.54863
END:VEVENT
BEGIN:VTIMEZONE
TZID:Europe/Warsaw
X-LIC-LOCATION:Europe/Warsaw
BEGIN:STANDARD
DTSTART:20191027T020000
TZOFFSETFROM:+0200
TZOFFSETTO:+0100
TZNAME:CET
END:STANDARD
END:VTIMEZONE
END:VCALENDAR