BEGIN:VCALENDAR
VERSION:2.0
PRODID:-//wp-events-plugin.com//7.2.3.1//EN
TZID:Europe/Warsaw
X-WR-TIMEZONE:Europe/Warsaw
BEGIN:VEVENT
UID:21017@night4u.pl
DTSTART;TZID=Europe/Warsaw:20190725T200000
DTEND;TZID=Europe/Warsaw:20190726T010000
DTSTAMP:20190704T024639Z
URL:https://night4u.pl/wydarzenia/granda-salsa-dla-poczatkujacych-free-26/
SUMMARY:Granda // salsa dla początkujących // free
DESCRIPTION:Czwartkowa Salsa! \n\nCocktail bar\n\nGranda czyli jedyny darmo
 wy kurs salsy w tym mieście! \nMateusz Nawrot poprowadzi waszą przygodę
  z tym pięknym tańcem od samego początku! Pierwsze kroki tylko z nim!\n
 \nPyszne autorskie cocktaile naszych barmanów serwowane przy rytmach najl
 epszych hitów lat 80 i 90! Idealne miejsce żeby odpocząć po ciężkim 
 dniu w pracy i zacząć powoli planować weekend! ?  \n\n\nCo czwartek\, t
 ylko w Muchos! \n\nSTART 20:00 ⏰\n*kurs startuje 20:30! \n\n\n\nCzwartek
  w muchos to STUDENCKI CZWARTEK! Dla wszystkich studentów (za okazaniem w
 ażnej legitymacji) lany żywiec za piątaka (5 PLN)! \n\nDo zobaczenia!\n
 \n#CoDziejeSięWMuchosZostajeWMuchos #CocktailBar #ChodzNaCocktail #Granda
ATTACH;FMTTYPE=image/jpeg:https://night4u.pl/wp-content/uploads/2019/07/50
 214_image_66021003_2621169351248729_2587046445206994944_o.jpg
CATEGORIES:wielkopolskie
LOCATION:muchos\, ul. Nowowiejskiego 13/15\, Poznan\, 61-732\, Poland
GEO:52.410638;16.926715
X-APPLE-STRUCTURED-LOCATION;VALUE=URI;X-ADDRESS=ul. Nowowiejskiego 13/15\, 
 Poznan\, 61-732\, Poland;X-APPLE-RADIUS=100;X-TITLE=muchos:geo:52.410638,1
 6.926715
END:VEVENT
BEGIN:VTIMEZONE
TZID:Europe/Warsaw
X-LIC-LOCATION:Europe/Warsaw
BEGIN:DAYLIGHT
DTSTART:20190331T030000
TZOFFSETFROM:+0100
TZOFFSETTO:+0200
TZNAME:CEST
END:DAYLIGHT
END:VTIMEZONE
END:VCALENDAR