BEGIN:VCALENDAR
VERSION:2.0
PRODID:-//wp-events-plugin.com//7.2.3.1//EN
TZID:Europe/Warsaw
X-WR-TIMEZONE:Europe/Warsaw
BEGIN:VEVENT
UID:2556@night4u.pl
DTSTART;TZID=Europe/Warsaw:20190224T200000
DTEND;TZID=Europe/Warsaw:20190224T230000
DTSTAMP:20190104T231935Z
URL:https://night4u.pl/wydarzenia/grandmaster-flash/
SUMMARY:GrandMaster Flash
DESCRIPTION:Hip Hop: People\, Places & Things.\n\n24 lutego 2019 roku w War
 szawskim Klubie Proxima wystąpi na jedynym koncercie w Polsce legenda Hip
 -Hop-u! GrandMaster Flash !\nW 2004 roku Magazyn Rolling Stone przyznał j
 ego utworowi "The Message" 51 miejsce na liście utworów wszech czasów! 
 W 2007 roku razem z The Furious Five dołączył do prestiżowego grona Ro
 ck and Roll Hall of Fame. W 2017 Netflix wyprodukował serial "The Get Dow
 n" w którym główni bohaterowie uczą się od niego techniki cuttingu. O
 krzyknięty przez New York Times „pierwszym wirtuozem Hip-Hopu” – te
 raz zagra dla warszawskiej publiczności! \n\nTrasa Hip Hop: People\, Plac
 es & Things za pomocą deków + obraz + dźwięk przeniesie nas w podróż
  do początków hip-hopu na Bronx-ie w latach 70tych i stamtąd odbędziem
 y podróż aż do czasów obecnych. Czeka nas uczta ponadczasowych utworó
 w zaserwowana przez jednego z największych mistrzów tego gatunku. Zreszt
 ą\, zobaczcie sami: https://youtu.be/u1t58gwNhFE \n\nBilety: \n75zł - 1 
 pula \n95zł – 2 pula \n110zł – 3 pula \n\nGrandmaster Flash czyli Jo
 seph Saddler to urodzony na Barbadosie a wychowany na południowym Bronksi
 e hip-hopowy muzyk i DJ\, uważany za jednego z pierwszych innowatorów hi
 p-hopu\, pioniera Turntablizmu\, cuttingu i miksowania. Zaangażowany we w
 czesną nowojorską scenę DJ-ów\, uczył się od Pete'a Jonesa i Koola H
 erca. Dziś jest głosem całego pokolenia pionierów hip-hopu z lat siede
 mdziesiątych. Grandmaster Flash był inicjatorem techniki nazywanej cutti
 ngiem. Polegała ona na używaniu dwóch kopii jednego nagrania i dwóch g
 ramofonów\, do których muzyk dodał mikser\, by manualnie wzmocnić prze
 rwy. Zwykłe odtwarzanie utworu było przerywane w celu nałożenia przerw
 y\, która z kolei mogła być powtarzana przy użyciu miksera do przełą
 czania kanałów\, do czasu kiedy druga płyta nie trafi z powrotem na ig
 łę gramofonu. Cutting został następnie rozwinięty do scratchingu prze
 z Grand Wizard Theodore.\n\nSwój pseudonim Flash otrzymał jeszcze w szko
 le od postaci Flash Gordona\, z którą się utożsamiał. Muzyk posiada w
 łasną kolekcję ubrań "G.Phyre". Był też producentem "The Get Down" N
 etflixa.\nDzięki dostępowi do archiwalnych oryginalnych nagrań\, obraz
 ów i filmów ze skarbców największych wytwórni płytowych\, występy G
 randmastera Flasha są prawdziwym świętem hip-hopu i dekady\, która uks
 ztałtowała ten muzyczny gatunek.
ATTACH;FMTTYPE=image/jpeg:https://night4u.pl/wp-content/uploads/2019/01/92
 18_image_49436030_10156052250125975_2509357015172644864_n.jpg
CATEGORIES:mazowieckie
LOCATION:Klub Proxima\, ul. Żwirki i Wigury 99a\, Warsaw\, 02-089\, Poland
GEO:52.212586;20.98704
X-APPLE-STRUCTURED-LOCATION;VALUE=URI;X-ADDRESS=ul. Żwirki i Wigury 99a\, 
 Warsaw\, 02-089\, Poland;X-APPLE-RADIUS=100;X-TITLE=Klub Proxima:geo:52.21
 2586,20.98704
END:VEVENT
BEGIN:VTIMEZONE
TZID:Europe/Warsaw
X-LIC-LOCATION:Europe/Warsaw
BEGIN:STANDARD
DTSTART:20181028T020000
TZOFFSETFROM:+0200
TZOFFSETTO:+0100
TZNAME:CET
END:STANDARD
END:VTIMEZONE
END:VCALENDAR