BEGIN:VCALENDAR
VERSION:2.0
PRODID:-//wp-events-plugin.com//7.2.3.1//EN
TZID:Europe/Warsaw
X-WR-TIMEZONE:Europe/Warsaw
BEGIN:VEVENT
UID:35523@night4u.pl
DTSTART;TZID=Europe/Warsaw:20191109T210000
DTEND;TZID=Europe/Warsaw:20191110T060000
DTSTAMP:20191110T001812Z
URL:https://night4u.pl/wydarzenia/greetings-from-havana-09-11-do-2200-wjaz
 d-free/
SUMMARY:Greetings From Havana // 09.11 // Do 22:00 wjazd Free
DESCRIPTION:Jeżeli uwielbiacie Kubański klimat\, mohito i latynoskie brzm
 ienia\, El Cubano Lublin stanie się Waszym drugim domem. Tego wieczoru na
 si rezydenci sprawią\, że poczujecie się jak na gorących Karaibach! \n
 \nTo coś więcej niż dobra zabawa przy gorących rytmach! Poczuj klimat 
 prawdziwego lata\, rozkołysanych bioder i gorących nocy ♥\n\n\n💃 Do
  23.30 gramy salsę\, kizombę i bachatę.\n💃 Po 23:30 gramy salsę\, k
 izombę i bachatę + największe latynoskie hity :)\n\nFIESTA DE LA MUSICA
 ! \n\n------------------------------------------------\n⭐️ SOBOTA ⭐
 ️\n\n➡️Start 21:00\n➡️Do 22:00 - wejście free\n➡️22:00-23:0
 0 - 10zł\n➡️Po 23:00 - 15zł\n\nBilet wstępu obowiązuje do lokali:\
 nHelium Club\nRzut Beretem\nEl Cubano\nRIVIERA\n\nseats &amp\; tables/ rez
 erwacje stolików\n☎️: 725700205 (wt-sob. 17:00-20:00)\nWejście 18+ /
  DOOR SELECTION
ATTACH;FMTTYPE=image/jpeg:https://night4u.pl/wp-content/uploads/2019/11/93
 482_image_75439362_2570675433008868_6993866286006534144_o.jpg
CATEGORIES:lubelskie
LOCATION:El Cubano Lublin\, Hempla 5\, Lublin\, 20-077\, Poland
GEO:51.24548;22.55754
X-APPLE-STRUCTURED-LOCATION;VALUE=URI;X-ADDRESS=Hempla 5\, Lublin\, 20-077\
 , Poland;X-APPLE-RADIUS=100;X-TITLE=El Cubano Lublin:geo:51.24548,22.55754
END:VEVENT
BEGIN:VTIMEZONE
TZID:Europe/Warsaw
X-LIC-LOCATION:Europe/Warsaw
BEGIN:STANDARD
DTSTART:20191027T020000
TZOFFSETFROM:+0200
TZOFFSETTO:+0100
TZNAME:CET
END:STANDARD
END:VTIMEZONE
END:VCALENDAR