BEGIN:VCALENDAR
VERSION:2.0
PRODID:-//wp-events-plugin.com//7.2.3.1//EN
TZID:Europe/Warsaw
X-WR-TIMEZONE:Europe/Warsaw
BEGIN:VEVENT
UID:17908@night4u.pl
DTSTART;TZID=Europe/Warsaw:20190601T223000
DTEND;TZID=Europe/Warsaw:20190602T030000
DTSTAMP:20190531T214019Z
URL:https://night4u.pl/wydarzenia/greg-helden-w-klubie-9stop/
SUMMARY:Greg Helden w Klubie 9stóp
DESCRIPTION:Już w sobotę - tuż po sportowych emocjach - czeka nas mega i
 mpreza z DJ Greg Helden 
ATTACH;FMTTYPE=image/jpeg:https://night4u.pl/wp-content/uploads/2019/05/43
 418_image_61564644_2440765779543041_8247853808516857856_o.jpg
CATEGORIES:wielkopolskie
LOCATION:Klub 9stóp\, Piątkowska 92\, Poznan\, 60-649\, Poland
GEO:52.429505;16.917341
X-APPLE-STRUCTURED-LOCATION;VALUE=URI;X-ADDRESS=Piątkowska 92\, Poznan\, 6
 0-649\, Poland;X-APPLE-RADIUS=100;X-TITLE=Klub 9stóp:geo:52.429505,16.917
 341
END:VEVENT
BEGIN:VTIMEZONE
TZID:Europe/Warsaw
X-LIC-LOCATION:Europe/Warsaw
BEGIN:DAYLIGHT
DTSTART:20190331T030000
TZOFFSETFROM:+0100
TZOFFSETTO:+0200
TZNAME:CEST
END:DAYLIGHT
END:VTIMEZONE
END:VCALENDAR