BEGIN:VCALENDAR
VERSION:2.0
PRODID:-//wp-events-plugin.com//7.2.3.1//EN
TZID:Europe/Warsaw
X-WR-TIMEZONE:Europe/Warsaw
BEGIN:VEVENT
UID:38655@night4u.pl
DTSTART;TZID=Europe/Warsaw:20191206T221300
DTEND;TZID=Europe/Warsaw:20191207T050000
DTSTAMP:20191206T184158Z
URL:https://night4u.pl/wydarzenia/grinch-night-plk-larry-lane/
SUMMARY:Grinch Night | PLK &amp\; Larry Lane
DESCRIPTION:Jedni na święta marudzą\, inni je uwielbiają\, a są i tacy
  którzy chcą je ukraść. Tego dnia\, z racji że uwielbiamy święta to
  chcemy ukraść Was i sprezentować Wam niepowtarzalną i niezapomnianą 
 imprezę! \nTej nocy jak należy celebrować magie świat pokażą Dj PLK 
 i Larry Lane!\n\nStart 22:13\n20 PLN.\nSelekcja.\n\nPatronat Medialny:\nRa
 dio ESKA\n\nREZERWACJE \n+48 732 538 638\ninfo@room13.pl\n________________
 ______\n\nwww.room13.pl\nfb.com/room13club\ninstagram.com/room13club
ATTACH;FMTTYPE=image/jpeg:https://night4u.pl/wp-content/uploads/2019/12/11
 0933_image_77069622_2891904737499898_8399372025562398720_o.jpg
CATEGORIES:mazowieckie
LOCATION:ROOM 13 Club\, ul. Mazowiecka 13\, Warsaw\, 00-052\, Poland
GEO:52.237999;21.012896
X-APPLE-STRUCTURED-LOCATION;VALUE=URI;X-ADDRESS=ul. Mazowiecka 13\, Warsaw\
 , 00-052\, Poland;X-APPLE-RADIUS=100;X-TITLE=ROOM 13 Club:geo:52.237999,21
 .012896
END:VEVENT
BEGIN:VTIMEZONE
TZID:Europe/Warsaw
X-LIC-LOCATION:Europe/Warsaw
BEGIN:STANDARD
DTSTART:20191027T020000
TZOFFSETFROM:+0200
TZOFFSETTO:+0100
TZNAME:CET
END:STANDARD
END:VTIMEZONE
END:VCALENDAR