BEGIN:VCALENDAR
VERSION:2.0
PRODID:-//wp-events-plugin.com//7.2.3.1//EN
TZID:Europe/Warsaw
X-WR-TIMEZONE:Europe/Warsaw
BEGIN:VEVENT
UID:2072@night4u.pl
DTSTART;TZID=Europe/Warsaw:20190126T210000
DTEND;TZID=Europe/Warsaw:20190127T050000
DTSTAMP:20181231T133142Z
URL:https://night4u.pl/wydarzenia/gromee-%e2%98%85-live-mix/
SUMMARY:GROMEE ★ Live Mix!
DESCRIPTION:GROMEE ★ Live Mix!\nSOB.26.01.2019 ★ ENERGY2000 KATOWICE\nW
  sobotę 26 stycznia\, za energiczną konsoletą stanie po raz kolejny zdo
 bywca Eska Awards i tytułu najlepszego polskiego DJ-ja 2017 - niesamowity
  GROMEE\, twórca takich mega-hitów jak: "Spirit"\, "Without You"\, "One 
 Last Time"\, czy „Light Me Up”\, którymi zdominował klubowe parkiety
  i podbił radiowe listy przebojów oraz serca fanów. Oprócz energetyczn
 ego seta Gromeego czekać na Was będzie mnóstwo dodatkowych atrakcji i n
 iespodzianek oraz prawdziwa inwazja energicznych gadżetów!\n\nBilet: Pan
 ie 15 zł\, Panowie 20 zł\nWiek: +18 lat\nStart: 21:00\n\nTego wydarzenia
  po prostu nie możecie przegapić.\nZagrają dla Was nasi rezydenci:\nMai
 n Stage: Aras\, DeePush\, D-Wave\nDance Stage: Mefiu\, Kubeck\nVIP Stage: 
 Triks\n\nPROMOCJA / URODZINY/KAWALERSKIE/PANIEŃSKIE - AKTYWNE.\nZasady pr
 omocji znajdziesz w naszym FAQ.\n\nRezerwacja loży: ON-LINE: na naszej st
 ronie www\, w zakładce: REZERWACJE lub TELEFONICZNIE pod nr. +48 609 539 
 619 od pon. do pt. w godz. 8-16.\n\nW całym klubie dostępne darmowe WI-F
 I.\nLokal w pełni klimatyzowany!\nSerdecznie zapraszamy!
ATTACH;FMTTYPE=image/jpeg:https://night4u.pl/wp-content/uploads/2018/12/81
 68_image_48939796_2631911483493120_1293229809765187584_o.jpg
CATEGORIES:śląskie
LOCATION:Energy 2000 Katowice\, Katowice\, Poland
GEO:50.255951;19.02099
X-APPLE-STRUCTURED-LOCATION;VALUE=URI;X-ADDRESS=Katowice\, Poland;X-APPLE-R
 ADIUS=100;X-TITLE=Energy 2000 Katowice:geo:50.255951,19.02099
END:VEVENT
BEGIN:VTIMEZONE
TZID:Europe/Warsaw
X-LIC-LOCATION:Europe/Warsaw
BEGIN:STANDARD
DTSTART:20181028T020000
TZOFFSETFROM:+0200
TZOFFSETTO:+0100
TZNAME:CET
END:STANDARD
END:VTIMEZONE
END:VCALENDAR