BEGIN:VCALENDAR
VERSION:2.0
PRODID:-//wp-events-plugin.com//7.2.3.1//EN
TZID:Europe/Warsaw
X-WR-TIMEZONE:Europe/Warsaw
BEGIN:VEVENT
UID:34391@night4u.pl
DTSTART;TZID=Europe/Warsaw:20191115T210000
DTEND;TZID=Europe/Warsaw:20191116T060000
DTSTAMP:20191116T000913Z
URL:https://night4u.pl/wydarzenia/gromee-15-11-do-2300-lista-fb-free/
SUMMARY:Gromee // 15.11 // Do 23:00 lista FB free
DESCRIPTION:GROMEE poraz pierwszy w Helium Club!\nTo obecnie jeden z najpop
 ularniejszych producentów muzycznych w kraju. Andrzej Gromala reprezentow
 ał Polskę na tegorocznej Eurowizjii\, w tym roku wydał również album 
 "Chapter One"\, który szybko zdobył status Złotej Płyty. Fearless\, Sp
 irit\, Follow You\, Live Forever - te i wiele innych kawałków usłyszyci
 e tego wieczoru w HELIUM! Do zobaczenia 15 listopada :) \n\n\n\n\n⭐️ P
 IĄTEK ⭐️ \n\n➡️Start 21:00\n➡️Do 23:00 - lista FB free / LIST
 E ZAMYKAMY O 20:00 \n➡️Od 23:00 - 24:00 - 10 zł \n➡️Po 24:00 - 15
  zł\n\nBilet wstępu obowiązuje do lokali:\nHelium Club\nRzut Beretem\nE
 l Cubano\n\nseats &amp\; tables/ rezerwacje stolików\n☎️: 725700205 (
 wt-sob. 17:00-20:00)\nWejście 18+ / DOOR SELECTION\n---------------------
 ----------------------------
ATTACH;FMTTYPE=image/jpeg:https://night4u.pl/wp-content/uploads/2019/11/88
 746_image_74313088_2461817890760045_8130066589576855552_o.jpg
CATEGORIES:lubelskie
LOCATION:Helium Club\, Hempla 5\, Lublin\, 20-008\, Poland
GEO:51.245425;22.557276
X-APPLE-STRUCTURED-LOCATION;VALUE=URI;X-ADDRESS=Hempla 5\, Lublin\, 20-008\
 , Poland;X-APPLE-RADIUS=100;X-TITLE=Helium Club:geo:51.245425,22.557276
END:VEVENT
BEGIN:VTIMEZONE
TZID:Europe/Warsaw
X-LIC-LOCATION:Europe/Warsaw
BEGIN:STANDARD
DTSTART:20191027T020000
TZOFFSETFROM:+0200
TZOFFSETTO:+0100
TZNAME:CET
END:STANDARD
END:VTIMEZONE
END:VCALENDAR